BEGIN:VCALENDAR
VERSION:2.0
PRODID:-//Tŝilhqot’in National Government - ECPv6.15.17.1//NONSGML v1.0//EN
CALSCALE:GREGORIAN
METHOD:PUBLISH
X-WR-CALNAME:Tŝilhqot’in National Government
X-ORIGINAL-URL:https://tsilhqotin.ca
X-WR-CALDESC:Events for Tŝilhqot’in National Government
REFRESH-INTERVAL;VALUE=DURATION:PT1H
X-Robots-Tag:noindex
X-PUBLISHED-TTL:PT1H
BEGIN:VTIMEZONE
TZID:America/Vancouver
BEGIN:DAYLIGHT
TZOFFSETFROM:-0800
TZOFFSETTO:-0700
TZNAME:PDT
DTSTART:20230312T100000
END:DAYLIGHT
BEGIN:STANDARD
TZOFFSETFROM:-0700
TZOFFSETTO:-0800
TZNAME:PST
DTSTART:20231105T090000
END:STANDARD
BEGIN:DAYLIGHT
TZOFFSETFROM:-0800
TZOFFSETTO:-0700
TZNAME:PDT
DTSTART:20240310T100000
END:DAYLIGHT
BEGIN:STANDARD
TZOFFSETFROM:-0700
TZOFFSETTO:-0800
TZNAME:PST
DTSTART:20241103T090000
END:STANDARD
BEGIN:DAYLIGHT
TZOFFSETFROM:-0800
TZOFFSETTO:-0700
TZNAME:PDT
DTSTART:20250309T100000
END:DAYLIGHT
BEGIN:STANDARD
TZOFFSETFROM:-0700
TZOFFSETTO:-0800
TZNAME:PST
DTSTART:20251102T090000
END:STANDARD
BEGIN:DAYLIGHT
TZOFFSETFROM:-0800
TZOFFSETTO:-0700
TZNAME:PDT
DTSTART:20260308T100000
END:DAYLIGHT
BEGIN:STANDARD
TZOFFSETFROM:-0700
TZOFFSETTO:-0800
TZNAME:PST
DTSTART:20261101T090000
END:STANDARD
BEGIN:DAYLIGHT
TZOFFSETFROM:-0800
TZOFFSETTO:-0700
TZNAME:PDT
DTSTART:20270314T100000
END:DAYLIGHT
BEGIN:STANDARD
TZOFFSETFROM:-0700
TZOFFSETTO:-0800
TZNAME:PST
DTSTART:20271107T090000
END:STANDARD
END:VTIMEZONE
BEGIN:VEVENT
DTSTART;TZID=America/Vancouver:20260325T140000
DTEND;TZID=America/Vancouver:20260325T180000
DTSTAMP:20260420T044708
CREATED:20260306T182550Z
LAST-MODIFIED:20260306T182550Z
UID:10000171-1774447200-1774461600@tsilhqotin.ca
SUMMARY:Tl’etinqox Community Meeting
DESCRIPTION:Held at Tl’etinqox Elders Centre \nThe Tŝilhqot’in Nation Governance Team will be hosting meetings with Elders and Communities to talk about the Dechen Ts’edilhtan (Constitution). All Tŝilhqot’in are welcome. Please join us!
URL:https://tsilhqotin.ca/event/tletinqox-community-meeting/
LOCATION:Tl’etinqox Elders Centre
CATEGORIES:Event
END:VEVENT
BEGIN:VEVENT
DTSTART;TZID=America/Vancouver:20260325T100000
DTEND;TZID=America/Vancouver:20260325T130000
DTSTAMP:20260420T044708
CREATED:20260306T182445Z
LAST-MODIFIED:20260306T182445Z
UID:10000170-1774432800-1774443600@tsilhqotin.ca
SUMMARY:Tl’etinqox Elders Meeting
DESCRIPTION:Held at Tl’etinqox Elders Centre \nThe Tŝilhqot’in Nation Governance Team will be hosting meetings with Elders and Communities to talk about the Dechen Ts’edilhtan (Constitution). All Tŝilhqot’in are welcome. Please join us!
URL:https://tsilhqotin.ca/event/tletinqox-elders-meeting/
LOCATION:Tl’etinqox Elders Centre
CATEGORIES:Event
END:VEVENT
BEGIN:VEVENT
DTSTART;TZID=America/Vancouver:20250410T103000
DTEND;TZID=America/Vancouver:20250410T120000
DTSTAMP:20260420T044708
CREATED:20250404T212250Z
LAST-MODIFIED:20250404T212250Z
UID:10000109-1744281000-1744286400@tsilhqotin.ca
SUMMARY:Elders Tea - Tl'etinqox
DESCRIPTION:
URL:https://tsilhqotin.ca/event/elders-tea-tletinqox/
LOCATION:Tl’etinqox Elders Centre
ATTACH;FMTTYPE=image/png:https://tsilhqotin.ca/wp-content/uploads/2025/04/Tletinqox-Elders-tea-Poster-04_03_2025.png
END:VEVENT
BEGIN:VEVENT
DTSTART;TZID=America/Vancouver:20250130T150000
DTEND;TZID=America/Vancouver:20250130T180000
DTSTAMP:20260420T044708
CREATED:20250114T161840Z
LAST-MODIFIED:20250114T161840Z
UID:10000084-1738249200-1738260000@tsilhqotin.ca
SUMMARY:Tŝilhqot’in ʔEten Nadiltil (TEN)- Dawson Road Maintenance Community Update - Tl'etinqox
DESCRIPTION:
URL:https://tsilhqotin.ca/event/tsilhqotin-%ca%94eten-nadiltil-ten-dawson-road-maintenance-community-update-tletinqox/
LOCATION:Tl’etinqox Elders Centre
ATTACH;FMTTYPE=image/png:https://tsilhqotin.ca/wp-content/uploads/2025/01/Tletinqox.png
END:VEVENT
BEGIN:VEVENT
DTSTART;TZID=America/Vancouver:20241210T170000
DTEND;TZID=America/Vancouver:20241210T190000
DTSTAMP:20260420T044708
CREATED:20241127T172201Z
LAST-MODIFIED:20241127T172201Z
UID:10000071-1733850000-1733857200@tsilhqotin.ca
SUMMARY:Tŝilhqot’in Nidlin Legislation Engagement
DESCRIPTION:
URL:https://tsilhqotin.ca/event/tsilhqotin-nidlin-legislation-engagement-2/
LOCATION:Tl’etinqox Elders Centre
ATTACH;FMTTYPE=image/png:https://tsilhqotin.ca/wp-content/uploads/2024/11/Nidlin-Legislation-02.png
END:VEVENT
END:VCALENDAR