BEGIN:VCALENDAR
VERSION:2.0
PRODID:-//Tŝilhqot’in National Government - ECPv6.15.17.1//NONSGML v1.0//EN
CALSCALE:GREGORIAN
METHOD:PUBLISH
X-WR-CALNAME:Tŝilhqot’in National Government
X-ORIGINAL-URL:https://tsilhqotin.ca
X-WR-CALDESC:Events for Tŝilhqot’in National Government
REFRESH-INTERVAL;VALUE=DURATION:PT1H
X-Robots-Tag:noindex
X-PUBLISHED-TTL:PT1H
BEGIN:VTIMEZONE
TZID:America/Vancouver
BEGIN:DAYLIGHT
TZOFFSETFROM:-0800
TZOFFSETTO:-0700
TZNAME:PDT
DTSTART:20230312T100000
END:DAYLIGHT
BEGIN:STANDARD
TZOFFSETFROM:-0700
TZOFFSETTO:-0800
TZNAME:PST
DTSTART:20231105T090000
END:STANDARD
BEGIN:DAYLIGHT
TZOFFSETFROM:-0800
TZOFFSETTO:-0700
TZNAME:PDT
DTSTART:20240310T100000
END:DAYLIGHT
BEGIN:STANDARD
TZOFFSETFROM:-0700
TZOFFSETTO:-0800
TZNAME:PST
DTSTART:20241103T090000
END:STANDARD
BEGIN:DAYLIGHT
TZOFFSETFROM:-0800
TZOFFSETTO:-0700
TZNAME:PDT
DTSTART:20250309T100000
END:DAYLIGHT
BEGIN:STANDARD
TZOFFSETFROM:-0700
TZOFFSETTO:-0800
TZNAME:PST
DTSTART:20251102T090000
END:STANDARD
END:VTIMEZONE
BEGIN:VEVENT
DTSTART;TZID=America/Vancouver:20241108T100000
DTEND;TZID=America/Vancouver:20241108T150000
DTSTAMP:20260421T035900
CREATED:20241031T173516Z
LAST-MODIFIED:20241031T173516Z
UID:10000053-1731060000-1731078000@tsilhqotin.ca
SUMMARY:Tŝiqi Dechen Jediltan Traditional Knowledge Gathering
DESCRIPTION:
URL:https://tsilhqotin.ca/event/tsiqi-dechen-jediltan-traditional-knowledge-gathering/
LOCATION:ELKS Lodge Quesnel\, 202 Anderson Drive\, Quesnel
ATTACH;FMTTYPE=image/png:https://tsilhqotin.ca/wp-content/uploads/2024/10/Copy-of-Event-Poster.png
END:VEVENT
END:VCALENDAR