BEGIN:VCALENDAR
VERSION:2.0
PRODID:-//Tŝilhqot’in National Government - ECPv6.15.17.1//NONSGML v1.0//EN
CALSCALE:GREGORIAN
METHOD:PUBLISH
X-ORIGINAL-URL:https://tsilhqotin.ca
X-WR-CALDESC:Events for Tŝilhqot’in National Government
REFRESH-INTERVAL;VALUE=DURATION:PT1H
X-Robots-Tag:noindex
X-PUBLISHED-TTL:PT1H
BEGIN:VTIMEZONE
TZID:America/Vancouver
BEGIN:DAYLIGHT
TZOFFSETFROM:-0800
TZOFFSETTO:-0700
TZNAME:PDT
DTSTART:20250309T100000
END:DAYLIGHT
BEGIN:STANDARD
TZOFFSETFROM:-0700
TZOFFSETTO:-0800
TZNAME:PST
DTSTART:20251102T090000
END:STANDARD
BEGIN:DAYLIGHT
TZOFFSETFROM:-0800
TZOFFSETTO:-0700
TZNAME:PDT
DTSTART:20260308T100000
END:DAYLIGHT
BEGIN:STANDARD
TZOFFSETFROM:-0700
TZOFFSETTO:-0800
TZNAME:PST
DTSTART:20261101T090000
END:STANDARD
BEGIN:DAYLIGHT
TZOFFSETFROM:-0800
TZOFFSETTO:-0700
TZNAME:PDT
DTSTART:20270314T100000
END:DAYLIGHT
BEGIN:STANDARD
TZOFFSETFROM:-0700
TZOFFSETTO:-0800
TZNAME:PST
DTSTART:20271107T090000
END:STANDARD
END:VTIMEZONE
BEGIN:VEVENT
DTSTART;TZID=America/Vancouver:20260324T100000
DTEND;TZID=America/Vancouver:20260324T130000
DTSTAMP:20260420T043655
CREATED:20260306T181528Z
LAST-MODIFIED:20260306T181851Z
UID:10000167-1774346400-1774357200@tsilhqotin.ca
SUMMARY:ʔEsdilagh Community Meeting
DESCRIPTION:Held at Frank Joe Health Building in ʔEsdilagh \nthe Tŝilhqot’in Nation Governance Team will be hosting meetings with Elders and Communities to talk about the Dechen Ts’edilhtan (Constitution). All Tŝilhqot’in are welcome. Please join us!
URL:https://tsilhqotin.ca/event/community-meeting/
CATEGORIES:Event
END:VEVENT
END:VCALENDAR