BEGIN:VCALENDAR
VERSION:2.0
PRODID:-//Tŝilhqot’in National Government - ECPv6.15.17.1//NONSGML v1.0//EN
CALSCALE:GREGORIAN
METHOD:PUBLISH
X-WR-CALNAME:Tŝilhqot’in National Government
X-ORIGINAL-URL:https://tsilhqotin.ca
X-WR-CALDESC:Events for Tŝilhqot’in National Government
REFRESH-INTERVAL;VALUE=DURATION:PT1H
X-Robots-Tag:noindex
X-PUBLISHED-TTL:PT1H
BEGIN:VTIMEZONE
TZID:America/Vancouver
BEGIN:DAYLIGHT
TZOFFSETFROM:-0800
TZOFFSETTO:-0700
TZNAME:PDT
DTSTART:20230312T100000
END:DAYLIGHT
BEGIN:STANDARD
TZOFFSETFROM:-0700
TZOFFSETTO:-0800
TZNAME:PST
DTSTART:20231105T090000
END:STANDARD
BEGIN:DAYLIGHT
TZOFFSETFROM:-0800
TZOFFSETTO:-0700
TZNAME:PDT
DTSTART:20240310T100000
END:DAYLIGHT
BEGIN:STANDARD
TZOFFSETFROM:-0700
TZOFFSETTO:-0800
TZNAME:PST
DTSTART:20241103T090000
END:STANDARD
BEGIN:DAYLIGHT
TZOFFSETFROM:-0800
TZOFFSETTO:-0700
TZNAME:PDT
DTSTART:20250309T100000
END:DAYLIGHT
BEGIN:STANDARD
TZOFFSETFROM:-0700
TZOFFSETTO:-0800
TZNAME:PST
DTSTART:20251102T090000
END:STANDARD
END:VTIMEZONE
BEGIN:VEVENT
DTSTART;TZID=America/Vancouver:20241106T170000
DTEND;TZID=America/Vancouver:20241106T200000
DTSTAMP:20260424T171944
CREATED:20241031T170711Z
LAST-MODIFIED:20241107T235820Z
UID:10000051-1730912400-1730923200@tsilhqotin.ca
SUMMARY:Graveyard Valley 2024 Commemorative Event
DESCRIPTION:
URL:https://tsilhqotin.ca/event/graveyard-valley-2024-commemorative-event/
LOCATION:Fox’s Den & Grill\, 104 Fairview Drive\, Williams Lake\, BC\, V2G 3T1\, Canada
ATTACH;FMTTYPE=image/png:https://tsilhqotin.ca/wp-content/uploads/2024/10/2024-10-30-Graveyard-Valley-Nov-6-Event-Poster_FINAL.png
END:VEVENT
BEGIN:VEVENT
DTSTART;TZID=America/Vancouver:20241108T100000
DTEND;TZID=America/Vancouver:20241108T150000
DTSTAMP:20260424T171944
CREATED:20241031T173516Z
LAST-MODIFIED:20241031T173516Z
UID:10000053-1731060000-1731078000@tsilhqotin.ca
SUMMARY:Tŝiqi Dechen Jediltan Traditional Knowledge Gathering
DESCRIPTION:
URL:https://tsilhqotin.ca/event/tsiqi-dechen-jediltan-traditional-knowledge-gathering/
LOCATION:ELKS Lodge Quesnel\, 202 Anderson Drive\, Quesnel
ATTACH;FMTTYPE=image/png:https://tsilhqotin.ca/wp-content/uploads/2024/10/Copy-of-Event-Poster.png
END:VEVENT
BEGIN:VEVENT
DTSTART;TZID=America/Vancouver:20241113T090000
DTEND;TZID=America/Vancouver:20241113T160000
DTSTAMP:20260424T171944
CREATED:20240910T160824Z
LAST-MODIFIED:20240918T222455Z
UID:10000029-1731488400-1731513600@tsilhqotin.ca
SUMMARY:Bighorn Management Plan Workshop - Xeni Gwet’in
DESCRIPTION:A workshop focused on developing a management plan for Bighorn Sheep in the Chilcotin (west of the Fraser River).
URL:https://tsilhqotin.ca/event/bighorn-management-plan-workshop-xeni-gwetin/
LOCATION:Xeni Gwet’in Band Office
ATTACH;FMTTYPE=image/png:https://tsilhqotin.ca/wp-content/uploads/2024/09/Option-1.png
END:VEVENT
BEGIN:VEVENT
DTSTART;TZID=America/Vancouver:20241114T090000
DTEND;TZID=America/Vancouver:20241115T160000
DTSTAMP:20260424T171944
CREATED:20240910T161804Z
LAST-MODIFIED:20241118T163845Z
UID:10000030-1731574800-1731686400@tsilhqotin.ca
SUMMARY:Bighorn Management Plan Workshop - Tl’esqox
DESCRIPTION:A workshop focused on developing a management plan for Bighorn Sheep in the Chilcotin (west of the Fraser River).
URL:https://tsilhqotin.ca/event/bighorn-management-plan-workshop-tlesqox/
LOCATION:Tl’esqox Community Hall
ATTACH;FMTTYPE=image/png:https://tsilhqotin.ca/wp-content/uploads/2024/09/Option-1.png
END:VEVENT
BEGIN:VEVENT
DTSTART;TZID=America/Vancouver:20241118T100000
DTEND;TZID=America/Vancouver:20241118T130000
DTSTAMP:20260424T171944
CREATED:20241106T175729Z
LAST-MODIFIED:20241114T221500Z
UID:10000054-1731924000-1731934800@tsilhqotin.ca
SUMMARY:TNG Capacity and Education Strategy Meeting - ʔEsdilagh
DESCRIPTION:
URL:https://tsilhqotin.ca/event/tng-education-roadshow-%ca%94esdilagh/
LOCATION:ʔEsdilagh Quesnel Office\, #4-423 Elliott Street\, Quesnel
ATTACH;FMTTYPE=image/png:https://tsilhqotin.ca/wp-content/uploads/2024/11/Esdilagh.png
END:VEVENT
BEGIN:VEVENT
DTSTART;TZID=America/Vancouver:20241119T110000
DTEND;TZID=America/Vancouver:20241119T140000
DTSTAMP:20260424T171944
CREATED:20241106T180314Z
LAST-MODIFIED:20241119T235850Z
UID:10000056-1732014000-1732024800@tsilhqotin.ca
SUMMARY:TNG Capacity and Education Strategy Meeting - Tŝideldel
DESCRIPTION:
URL:https://tsilhqotin.ca/event/tng-education-roadshow-tsideldel/
LOCATION:Tŝideldel Culture Center
ATTACH;FMTTYPE=image/png:https://tsilhqotin.ca/wp-content/uploads/2024/11/Tsideldel-1.png
END:VEVENT
BEGIN:VEVENT
DTSTART;TZID=America/Vancouver:20241121T100000
DTEND;TZID=America/Vancouver:20241121T130000
DTSTAMP:20260424T171944
CREATED:20241106T180519Z
LAST-MODIFIED:20241127T170907Z
UID:10000057-1732183200-1732194000@tsilhqotin.ca
SUMMARY:TNG Capacity and Education Strategy Meeting - Xeni Gwet’in
DESCRIPTION:
URL:https://tsilhqotin.ca/event/tng-education-roadshow-xeni-gwetin/
LOCATION:Xeni Gwet’in Band Office
ATTACH;FMTTYPE=image/png:https://tsilhqotin.ca/wp-content/uploads/2024/11/Xeni-1-1.png
END:VEVENT
BEGIN:VEVENT
DTSTART;TZID=America/Vancouver:20241121T153000
DTEND;TZID=America/Vancouver:20241121T183000
DTSTAMP:20260424T171944
CREATED:20241106T180703Z
LAST-MODIFIED:20241114T231608Z
UID:10000058-1732203000-1732213800@tsilhqotin.ca
SUMMARY:TNG Capacity and Education Strategy Meeting - Yuneŝit’in
DESCRIPTION:
URL:https://tsilhqotin.ca/event/tng-education-roadshow-yunesitin/
LOCATION:Yuneŝit’in ʔEsgul Gym
ATTACH;FMTTYPE=image/png:https://tsilhqotin.ca/wp-content/uploads/2024/11/Yunesitin.png
END:VEVENT
BEGIN:VEVENT
DTSTART;TZID=America/Vancouver:20241122T120000
DTEND;TZID=America/Vancouver:20241122T140000
DTSTAMP:20260424T171944
CREATED:20241106T180940Z
LAST-MODIFIED:20241114T225101Z
UID:10000059-1732276800-1732284000@tsilhqotin.ca
SUMMARY:TNG Capacity and Education Strategy Meeting - Elders’ Focus Group
DESCRIPTION:
URL:https://tsilhqotin.ca/event/tng-education-roadshow-elders-focus-group/
LOCATION:TNG South Lakeside Office\, 1729 South Lakeside Dr\, Williams Lake\, CA-BC\, V2G 3A9\, Canada
ATTACH;FMTTYPE=image/png:https://tsilhqotin.ca/wp-content/uploads/2024/11/Elders-Focus-Group-1-1.png
END:VEVENT
BEGIN:VEVENT
DTSTART;TZID=America/Vancouver:20241122T170000
DTEND;TZID=America/Vancouver:20241122T200000
DTSTAMP:20260424T171944
CREATED:20241029T223729Z
LAST-MODIFIED:20241127T170933Z
UID:10000050-1732294800-1732305600@tsilhqotin.ca
SUMMARY:Kelowna Tŝilhqot’in Deni Update
DESCRIPTION:
URL:https://tsilhqotin.ca/event/kelowna-tsilhqotin-deni-update/
LOCATION:The Cove Waterfront Resort\, 4205 Gellatly Road\, West Kelowna\, BC\, V4T 2K2\, Canada
ATTACH;FMTTYPE=image/png:https://tsilhqotin.ca/wp-content/uploads/2024/10/Kelowna-Final.png
END:VEVENT
BEGIN:VEVENT
DTSTART;TZID=America/Vancouver:20241122T170000
DTEND;TZID=America/Vancouver:20241122T200000
DTSTAMP:20260424T171944
CREATED:20241106T181123Z
LAST-MODIFIED:20241120T220000Z
UID:10000060-1732294800-1732305600@tsilhqotin.ca
SUMMARY:TNG Capacity and Education Strategy Meeting - All Tŝilhqot’in Welcome
DESCRIPTION:
URL:https://tsilhqotin.ca/event/tng-education-roadshow-all-tsilhqotin-welcome/
LOCATION:TNG South Lakeside Office\, 1729 South Lakeside Dr\, Williams Lake\, CA-BC\, V2G 3A9\, Canada
ATTACH;FMTTYPE=image/png:https://tsilhqotin.ca/wp-content/uploads/2024/11/All-Tsilhqotin-4.png
END:VEVENT
BEGIN:VEVENT
DTSTART;TZID=America/Vancouver:20241125T160000
DTEND;TZID=America/Vancouver:20241125T190000
DTSTAMP:20260424T171944
CREATED:20241106T175901Z
LAST-MODIFIED:20241114T222749Z
UID:10000055-1732550400-1732561200@tsilhqotin.ca
SUMMARY:TNG Capacity and Education Strategy Meeting - Tl’etinqox
DESCRIPTION:
URL:https://tsilhqotin.ca/event/tng-education-roadshow-tletinqox/
LOCATION:Tl’etinqox ʔEsgul Gym
ATTACH;FMTTYPE=image/png:https://tsilhqotin.ca/wp-content/uploads/2024/11/Tletinqox-1.png
END:VEVENT
BEGIN:VEVENT
DTSTART;TZID=America/Vancouver:20241126T120000
DTEND;TZID=America/Vancouver:20241126T150000
DTSTAMP:20260424T171944
CREATED:20241119T235406Z
LAST-MODIFIED:20241119T235406Z
UID:10000067-1732622400-1732633200@tsilhqotin.ca
SUMMARY:Employment Coordinator Community Visit - Yuneŝit’in
DESCRIPTION:
URL:https://tsilhqotin.ca/event/employment-coordinator-community-visit-yunesitin/
LOCATION:Yuneŝit’in Health Center
ATTACH;FMTTYPE=image/png:https://tsilhqotin.ca/wp-content/uploads/2024/11/Yunesitin-1.png
END:VEVENT
BEGIN:VEVENT
DTSTART;TZID=America/Vancouver:20241127T100000
DTEND;TZID=America/Vancouver:20241127T140000
DTSTAMP:20260424T171944
CREATED:20241017T174703Z
LAST-MODIFIED:20241028T200650Z
UID:10000047-1732701600-1732716000@tsilhqotin.ca
SUMMARY:Mining Update - Tŝideldel (Rescheduled from October 16)
DESCRIPTION:
URL:https://tsilhqotin.ca/event/mining-oil-gas-engagement-tsideldel-rescheduled-from/
LOCATION:Tŝideldel Culture Center
ATTACH;FMTTYPE=image/png:https://tsilhqotin.ca/wp-content/uploads/2024/10/2024-Mining-Oil-Gas-Engagement-Poster2.png
END:VEVENT
BEGIN:VEVENT
DTSTART;TZID=America/Vancouver:20241127T173000
DTEND;TZID=America/Vancouver:20241127T200000
DTSTAMP:20260424T171944
CREATED:20241114T155346Z
LAST-MODIFIED:20241114T155346Z
UID:10000066-1732728600-1732737600@tsilhqotin.ca
SUMMARY:TNG Capacity and Education Strategy Meeting - Tl'esqox (Rescheduled from November 20\, 2024)
DESCRIPTION:
URL:https://tsilhqotin.ca/event/tng-capacity-and-education-strategy-meeting-tlesqox-rescheduled-from-november-20-2024/
LOCATION:Tl’esqox Community Hall
ATTACH;FMTTYPE=image/png:https://tsilhqotin.ca/wp-content/uploads/2024/11/TNG801_Community-Gathering-Poster_22Oct2024-6.png
END:VEVENT
END:VCALENDAR