BEGIN:VCALENDAR
VERSION:2.0
PRODID:-//Tŝilhqot’in National Government - ECPv6.15.17.1//NONSGML v1.0//EN
CALSCALE:GREGORIAN
METHOD:PUBLISH
X-WR-CALNAME:Tŝilhqot’in National Government
X-ORIGINAL-URL:https://tsilhqotin.ca
X-WR-CALDESC:Events for Tŝilhqot’in National Government
REFRESH-INTERVAL;VALUE=DURATION:PT1H
X-Robots-Tag:noindex
X-PUBLISHED-TTL:PT1H
BEGIN:VTIMEZONE
TZID:America/Vancouver
BEGIN:DAYLIGHT
TZOFFSETFROM:-0800
TZOFFSETTO:-0700
TZNAME:PDT
DTSTART:20230312T100000
END:DAYLIGHT
BEGIN:STANDARD
TZOFFSETFROM:-0700
TZOFFSETTO:-0800
TZNAME:PST
DTSTART:20231105T090000
END:STANDARD
BEGIN:DAYLIGHT
TZOFFSETFROM:-0800
TZOFFSETTO:-0700
TZNAME:PDT
DTSTART:20240310T100000
END:DAYLIGHT
BEGIN:STANDARD
TZOFFSETFROM:-0700
TZOFFSETTO:-0800
TZNAME:PST
DTSTART:20241103T090000
END:STANDARD
BEGIN:DAYLIGHT
TZOFFSETFROM:-0800
TZOFFSETTO:-0700
TZNAME:PDT
DTSTART:20250309T100000
END:DAYLIGHT
BEGIN:STANDARD
TZOFFSETFROM:-0700
TZOFFSETTO:-0800
TZNAME:PST
DTSTART:20251102T090000
END:STANDARD
END:VTIMEZONE
BEGIN:VEVENT
DTSTART;TZID=America/Vancouver:20241001T090000
DTEND;TZID=America/Vancouver:20241001T120000
DTSTAMP:20260424T200109
CREATED:20240916T172537Z
LAST-MODIFIED:20240925T221142Z
UID:10000035-1727773200-1727784000@tsilhqotin.ca
SUMMARY:Wildlife Management Discussions - ʔEsdilagh
DESCRIPTION:
URL:https://tsilhqotin.ca/event/wildlife-management-discussions-with-tng-staff-%ca%94esdilagh/
LOCATION:Hummingbird Centre\, 9001-7 West Fraser Road\, BC\, V2G 6R4
ATTACH;FMTTYPE=image/png:https://tsilhqotin.ca/wp-content/uploads/2024/09/ʔEsdilagh-1.png
END:VEVENT
BEGIN:VEVENT
DTSTART;TZID=America/Vancouver:20241001T140000
DTEND;TZID=America/Vancouver:20241001T170000
DTSTAMP:20260424T200109
CREATED:20240916T172904Z
LAST-MODIFIED:20240925T221102Z
UID:10000036-1727791200-1727802000@tsilhqotin.ca
SUMMARY:Wildlife Management Discussions - Tl’esqox
DESCRIPTION:
URL:https://tsilhqotin.ca/event/wildlife-management-discussions-with-tng-staff-tlesqox/
LOCATION:Tl’esqox Band Office Boardroom
ATTACH;FMTTYPE=image/png:https://tsilhqotin.ca/wp-content/uploads/2024/09/Tlesqox.png
END:VEVENT
BEGIN:VEVENT
DTSTART;TZID=America/Vancouver:20241002T080000
DTEND;TZID=America/Vancouver:20241002T160000
DTSTAMP:20260424T200109
CREATED:20240830T154934Z
LAST-MODIFIED:20241004T202846Z
UID:10000027-1727856000-1727884800@tsilhqotin.ca
SUMMARY:Tŝilhqot’in Housing Forum
DESCRIPTION:
URL:https://tsilhqotin.ca/event/tsilhqotin-housing-forum-2/
LOCATION:Gibraltar Room at the Cariboo Memorial Recreation Complex\, 525 Proctor St\, Williams Lake\, British Columbia\, V2G 4J1\, Canada
CATEGORIES:Event
ATTACH;FMTTYPE=image/png:https://tsilhqotin.ca/wp-content/uploads/2024/08/Tsilhqotin-Housing-Forum-Poster-1.png
END:VEVENT
BEGIN:VEVENT
DTSTART;TZID=America/Vancouver:20241003T153000
DTEND;TZID=America/Vancouver:20241003T190000
DTSTAMP:20260424T200109
CREATED:20240925T220843Z
LAST-MODIFIED:20240925T220843Z
UID:10000037-1727969400-1727982000@tsilhqotin.ca
SUMMARY:Wildlife Management Discussions – Yuneŝit’in
DESCRIPTION:
URL:https://tsilhqotin.ca/event/wildlife-management-discussions-yunesitin/
LOCATION:Yuneŝit’in ʔEsgul Gym
ATTACH;FMTTYPE=image/png:https://tsilhqotin.ca/wp-content/uploads/2024/09/Yunesitin-1.png
END:VEVENT
BEGIN:VEVENT
DTSTART;TZID=America/Vancouver:20241004T120000
DTEND;TZID=America/Vancouver:20241004T180000
DTSTAMP:20260424T200109
CREATED:20240912T205636Z
LAST-MODIFIED:20240912T205636Z
UID:10000032-1728043200-1728064800@tsilhqotin.ca
SUMMARY:Totem Pole Ceremony - 10th Anniversary of the Totem Pole Raising
DESCRIPTION:
URL:https://tsilhqotin.ca/event/totem-pole-ceremony-10th-anniversary-of-the-totem-pole-raising/
END:VEVENT
BEGIN:VEVENT
DTSTART;TZID=America/Vancouver:20241007T140000
DTEND;TZID=America/Vancouver:20241007T170000
DTSTAMP:20260424T200109
CREATED:20240925T221500Z
LAST-MODIFIED:20241015T175631Z
UID:10000038-1728309600-1728320400@tsilhqotin.ca
SUMMARY:Wildlife Management Discussions  – Tŝideldel
DESCRIPTION:
URL:https://tsilhqotin.ca/event/wildlife-management-discussions-tsideldel/
LOCATION:Tŝideldel Culture Center
ATTACH;FMTTYPE=image/png:https://tsilhqotin.ca/wp-content/uploads/2024/09/Tsideldel-4.png
END:VEVENT
BEGIN:VEVENT
DTSTART;TZID=America/Vancouver:20241009T153000
DTEND;TZID=America/Vancouver:20241009T190000
DTSTAMP:20260424T200109
CREATED:20240925T221724Z
LAST-MODIFIED:20240925T221724Z
UID:10000039-1728487800-1728500400@tsilhqotin.ca
SUMMARY:Wildlife Management Discussions – Tl’etinqox
DESCRIPTION:
URL:https://tsilhqotin.ca/event/wildlife-management-discussions-tletinqox/
LOCATION:Tl’etinqox ʔEsgul Gym
ATTACH;FMTTYPE=image/png:https://tsilhqotin.ca/wp-content/uploads/2024/09/Tletinqox-1.png
END:VEVENT
BEGIN:VEVENT
DTSTART;TZID=America/Vancouver:20241016T170000
DTEND;TZID=America/Vancouver:20241016T200000
DTSTAMP:20260424T200109
CREATED:20240912T211706Z
LAST-MODIFIED:20241017T155020Z
UID:10000033-1729098000-1729108800@tsilhqotin.ca
SUMMARY:Tŝilhqot’in Nation World Café
DESCRIPTION:Gather with us for a meal and an evening of fun with TNG. See what’s new or get updated on what TNG is currently working on\, and maybe win at BINGO!
URL:https://tsilhqotin.ca/event/tsilhqotin-nation-world-cafe/
LOCATION:Tillicum Society Friendship Centre\, 319 North Fraser Dr.\, Quesnel
CATEGORIES:Event
ATTACH;FMTTYPE=image/png:https://tsilhqotin.ca/wp-content/uploads/2024/09/option-2-1.png
END:VEVENT
BEGIN:VEVENT
DTSTART;TZID=America/Vancouver:20241022T170000
DTEND;TZID=America/Vancouver:20241022T190000
DTSTAMP:20260424T200109
CREATED:20241016T182357Z
LAST-MODIFIED:20241023T171054Z
UID:10000046-1729616400-1729623600@tsilhqotin.ca
SUMMARY:Tŝilhqot’in Nidlin Story-Telling Night
DESCRIPTION:
URL:https://tsilhqotin.ca/event/tsilhqotin-nidlin-story-telling-night/
LOCATION:Yuneŝit’in ʔEsgul Gym
ATTACH;FMTTYPE=image/png:https://tsilhqotin.ca/wp-content/uploads/2024/10/Nidlin-Story-telling-Event-Poster.png
END:VEVENT
BEGIN:VEVENT
DTSTART;TZID=America/Vancouver:20241024T100000
DTEND;TZID=America/Vancouver:20241024T140000
DTSTAMP:20260424T200109
CREATED:20241010T161814Z
LAST-MODIFIED:20241022T170113Z
UID:10000044-1729764000-1729778400@tsilhqotin.ca
SUMMARY:Mining\, Oil\, & Gas Engagement - Xeni Gwet’in
DESCRIPTION:
URL:https://tsilhqotin.ca/event/mining-oil-gas-engagement-xeni-gwetin/
ATTACH;FMTTYPE=image/png:https://tsilhqotin.ca/wp-content/uploads/2024/10/2024-Mining-Oil-Gas-Engagement-Poster2.png
END:VEVENT
BEGIN:VEVENT
DTSTART;TZID=America/Vancouver:20241026T120000
DTEND;TZID=America/Vancouver:20241026T140000
DTSTAMP:20260424T200109
CREATED:20241009T161726Z
LAST-MODIFIED:20241028T185417Z
UID:10000040-1729944000-1729951200@tsilhqotin.ca
SUMMARY:2024 Lhatŝ’aŝʔin Memorial Day
DESCRIPTION:Let us gather with with us to honour\, commemorate the 160th anniversary and remember.
URL:https://tsilhqotin.ca/event/2024-lhatsas%ca%94in-memorial-day/
LOCATION:Fish Trap-Dean Lake Recreational Site
CATEGORIES:Event
ATTACH;FMTTYPE=image/png:https://tsilhqotin.ca/wp-content/uploads/2024/10/2024-Lhatsasʔin-Memorial-Poster.png
END:VEVENT
BEGIN:VEVENT
DTSTART;TZID=America/Vancouver:20241029T100000
DTEND;TZID=America/Vancouver:20241029T120000
DTSTAMP:20260424T200109
CREATED:20241010T161706Z
LAST-MODIFIED:20241023T171251Z
UID:10000043-1730196000-1730203200@tsilhqotin.ca
SUMMARY:Mining Update - ʔEsdilagh
DESCRIPTION:
URL:https://tsilhqotin.ca/event/mining-oil-gas-engagement-%ca%94esdilagh/
LOCATION:Hummingbird Centre\, 9001-7 West Fraser Road\, BC\, V2G 6R4
ATTACH;FMTTYPE=image/png:https://tsilhqotin.ca/wp-content/uploads/2024/10/2024-Mining-Oil-Gas-Engagement-Poster2.png
END:VEVENT
BEGIN:VEVENT
DTSTART;TZID=America/Vancouver:20241030T130000
DTEND;TZID=America/Vancouver:20241030T160000
DTSTAMP:20260424T200109
CREATED:20241010T162432Z
LAST-MODIFIED:20241010T162432Z
UID:10000045-1730293200-1730304000@tsilhqotin.ca
SUMMARY:Status Card Renewals & Registration - Xeni Gwet’in
DESCRIPTION:
URL:https://tsilhqotin.ca/event/status-card-renewals-registration-xeni-gwetin/
LOCATION:ʔEniyud Health – Xeni Gwet’in
ATTACH;FMTTYPE=image/png:https://tsilhqotin.ca/wp-content/uploads/2024/10/Status-Card-Renewals-Registration-Poster-1.png
END:VEVENT
END:VCALENDAR