BEGIN:VCALENDAR
VERSION:2.0
PRODID:-//Tŝilhqot’in National Government - ECPv6.15.17.1//NONSGML v1.0//EN
CALSCALE:GREGORIAN
METHOD:PUBLISH
X-WR-CALNAME:Tŝilhqot’in National Government
X-ORIGINAL-URL:https://tsilhqotin.ca
X-WR-CALDESC:Events for Tŝilhqot’in National Government
REFRESH-INTERVAL;VALUE=DURATION:PT1H
X-Robots-Tag:noindex
X-PUBLISHED-TTL:PT1H
BEGIN:VTIMEZONE
TZID:America/Vancouver
BEGIN:DAYLIGHT
TZOFFSETFROM:-0800
TZOFFSETTO:-0700
TZNAME:PDT
DTSTART:20240310T100000
END:DAYLIGHT
BEGIN:STANDARD
TZOFFSETFROM:-0700
TZOFFSETTO:-0800
TZNAME:PST
DTSTART:20241103T090000
END:STANDARD
BEGIN:DAYLIGHT
TZOFFSETFROM:-0800
TZOFFSETTO:-0700
TZNAME:PDT
DTSTART:20250309T100000
END:DAYLIGHT
BEGIN:STANDARD
TZOFFSETFROM:-0700
TZOFFSETTO:-0800
TZNAME:PST
DTSTART:20251102T090000
END:STANDARD
BEGIN:DAYLIGHT
TZOFFSETFROM:-0800
TZOFFSETTO:-0700
TZNAME:PDT
DTSTART:20260308T100000
END:DAYLIGHT
BEGIN:STANDARD
TZOFFSETFROM:-0700
TZOFFSETTO:-0800
TZNAME:PST
DTSTART:20261101T090000
END:STANDARD
END:VTIMEZONE
BEGIN:VEVENT
DTSTART;TZID=America/Vancouver:20250415T160000
DTEND;TZID=America/Vancouver:20250415T200000
DTSTAMP:20260420T131331
CREATED:20250319T173223Z
LAST-MODIFIED:20250319T173223Z
UID:10000106-1744732800-1744747200@tsilhqotin.ca
SUMMARY:Nenqayni Ch'ih Deni Ŵedli - Let’s Live Indigenous - Tŝilhqot’in History - Gibraltar Room
DESCRIPTION:
URL:https://tsilhqotin.ca/event/nenqayni-chih-deni-wedli-lets-live-indigenous-tsilhqotin-history-gibraltar-room/
LOCATION:Williams Lake Gibraltar Room\, 525 Proctor Street\, Williams Lake\, BC\, V2G 4J1\, Canada
ATTACH;FMTTYPE=image/png:https://tsilhqotin.ca/wp-content/uploads/2025/03/Nenqayni-Chih-Deni_Poster.png
END:VEVENT
BEGIN:VEVENT
DTSTART;TZID=America/Vancouver:20250414T170000
DTEND;TZID=America/Vancouver:20250414T200000
DTSTAMP:20260420T131331
CREATED:20250306T192409Z
LAST-MODIFIED:20250415T160124Z
UID:10000103-1744650000-1744660800@tsilhqotin.ca
SUMMARY:Nexwenen and Governance Tŝilhqot’in Deni Engagement - Coast Coal Harbour Vancouver Hotel
DESCRIPTION:
URL:https://tsilhqotin.ca/event/nexwenen-and-governance-tsilhqotin-deni-engagement-vancouver/
LOCATION:The Coast Coal Harbour Hotel\, 1180 W. Hastings Street\, Vancouver\, BC
ATTACH;FMTTYPE=image/png:https://tsilhqotin.ca/wp-content/uploads/2025/03/Vancouver-1.png
END:VEVENT
BEGIN:VEVENT
DTSTART;TZID=America/Vancouver:20250410T103000
DTEND;TZID=America/Vancouver:20250410T120000
DTSTAMP:20260420T131331
CREATED:20250404T212250Z
LAST-MODIFIED:20250404T212250Z
UID:10000109-1744281000-1744286400@tsilhqotin.ca
SUMMARY:Elders Tea - Tl'etinqox
DESCRIPTION:
URL:https://tsilhqotin.ca/event/elders-tea-tletinqox/
LOCATION:Tl’etinqox Elders Centre
ATTACH;FMTTYPE=image/png:https://tsilhqotin.ca/wp-content/uploads/2025/04/Tletinqox-Elders-tea-Poster-04_03_2025.png
END:VEVENT
BEGIN:VEVENT
DTSTART;TZID=America/Vancouver:20250409T093000
DTEND;TZID=America/Vancouver:20250410T160000
DTSTAMP:20260420T131331
CREATED:20250212T204743Z
LAST-MODIFIED:20250319T221937Z
UID:10000092-1744191000-1744300800@tsilhqotin.ca
SUMMARY:Tŝilhqot’in-led Moose Management Planning Workshop
DESCRIPTION:
URL:https://tsilhqotin.ca/event/tsilhqotin-led-moose-management-planning-workshop/
LOCATION:Tl’esqox Community Hall
ATTACH;FMTTYPE=image/png:https://tsilhqotin.ca/wp-content/uploads/2025/02/Moose-5.png
END:VEVENT
BEGIN:VEVENT
DTSTART;TZID=America/Vancouver:20250404T110000
DTEND;TZID=America/Vancouver:20250404T160000
DTSTAMP:20260420T131331
CREATED:20250225T222103Z
LAST-MODIFIED:20250225T222103Z
UID:10000094-1743764400-1743782400@tsilhqotin.ca
SUMMARY:Indigenous Craft Fair
DESCRIPTION:
URL:https://tsilhqotin.ca/event/indigenous-craft-fair/
LOCATION:Williams Lake Longhouse\, 850 Mackenzie Ave.\, Williams Lake\, BC\, V2G 1M4
ATTACH;FMTTYPE=image/png:https://tsilhqotin.ca/wp-content/uploads/2025/02/2025-Spring-Craft-Fair.png
END:VEVENT
BEGIN:VEVENT
DTSTART;TZID=America/Vancouver:20250402T100000
DTEND;TZID=America/Vancouver:20250402T160000
DTSTAMP:20260420T131331
CREATED:20250306T192215Z
LAST-MODIFIED:20250306T192215Z
UID:10000102-1743588000-1743609600@tsilhqotin.ca
SUMMARY:Nexwenen and Governance Community Engagement - Xeni Gwet’in
DESCRIPTION:
URL:https://tsilhqotin.ca/event/nexwenen-and-governance-community-engagement-xeni-gwetin/
LOCATION:Xeni Gwet’in Band Office
ATTACH;FMTTYPE=image/png:https://tsilhqotin.ca/wp-content/uploads/2025/03/Agenda.png
END:VEVENT
BEGIN:VEVENT
DTSTART;TZID=America/Vancouver:20250331T160000
DTEND;TZID=America/Vancouver:20250331T200000
DTSTAMP:20260420T131331
CREATED:20250108T193053Z
LAST-MODIFIED:20250108T193053Z
UID:10000077-1743436800-1743451200@tsilhqotin.ca
SUMMARY:Nenqayni Ch'ih Deni Ŵeldi
DESCRIPTION:
URL:https://tsilhqotin.ca/event/nenqayni-chih-deni-weldi/
CATEGORIES:Event
ATTACH;FMTTYPE=image/png:https://tsilhqotin.ca/wp-content/uploads/2025/01/Evening-1.png
END:VEVENT
BEGIN:VEVENT
DTSTART;TZID=America/Vancouver:20250329T130000
DTEND;TZID=America/Vancouver:20250329T160000
DTSTAMP:20260420T131331
CREATED:20250306T192018Z
LAST-MODIFIED:20250321T162913Z
UID:10000101-1743253200-1743264000@tsilhqotin.ca
SUMMARY:Nexwenen and Governance Engagement - Virtual
DESCRIPTION:
URL:https://tsilhqotin.ca/event/nexwenen-and-governance-virtual-engagement/
LOCATION:Virtual Meeting
ATTACH;FMTTYPE=image/png:https://tsilhqotin.ca/wp-content/uploads/2025/03/2025-NEXWENENGOVERNANCE-POSTER.png
END:VEVENT
BEGIN:VEVENT
DTSTART;TZID=America/Vancouver:20250327T170000
DTEND;TZID=America/Vancouver:20250327T200000
DTSTAMP:20260420T131331
CREATED:20250306T191836Z
LAST-MODIFIED:20250306T191836Z
UID:10000100-1743094800-1743105600@tsilhqotin.ca
SUMMARY:Nexwenen and Governance Tŝilhqot'in Deni Engagement - TRU Williams Lake
DESCRIPTION:
URL:https://tsilhqotin.ca/event/nexwenen-and-governance-tsilhqotin-deni-engagement-tru-williams-lake/
LOCATION:TRU Room 1308
ATTACH;FMTTYPE=image/png:https://tsilhqotin.ca/wp-content/uploads/2025/03/Agenda.png
END:VEVENT
BEGIN:VEVENT
DTSTART;TZID=America/Vancouver:20250326T100000
DTEND;TZID=America/Vancouver:20250326T160000
DTSTAMP:20260420T131331
CREATED:20250306T191334Z
LAST-MODIFIED:20250306T191334Z
UID:10000099-1742983200-1743004800@tsilhqotin.ca
SUMMARY:Nexwenen and Governance Community Engagement - Quesnel Tillicum Society
DESCRIPTION:
URL:https://tsilhqotin.ca/event/nexwenen-and-governance-community-engagement-quesnel-tillicum-society/
LOCATION:Quesnel Tillicum Society\, 319 North Fraser Dr.\, Quesnel
ATTACH;FMTTYPE=image/png:https://tsilhqotin.ca/wp-content/uploads/2025/03/Agenda.png
END:VEVENT
BEGIN:VEVENT
DTSTART;TZID=America/Vancouver:20250325T170000
DTEND;TZID=America/Vancouver:20250325T200000
DTSTAMP:20260420T131331
CREATED:20250306T191050Z
LAST-MODIFIED:20250408T215419Z
UID:10000098-1742922000-1742932800@tsilhqotin.ca
SUMMARY:Nexwenen and Governance Youth Engagement - TRU Williams Lake
DESCRIPTION:
URL:https://tsilhqotin.ca/event/nexwenen-and-governance-community-engagement-tru-williams-lake/
LOCATION:TRU Room 1308
CATEGORIES:Event
ATTACH;FMTTYPE=image/png:https://tsilhqotin.ca/wp-content/uploads/2025/03/All-engagement.png
END:VEVENT
BEGIN:VEVENT
DTSTART;TZID=America/Vancouver:20250314T100000
DTEND;TZID=America/Vancouver:20250314T160000
DTSTAMP:20260420T131331
CREATED:20250306T190710Z
LAST-MODIFIED:20250306T190710Z
UID:10000097-1741946400-1741968000@tsilhqotin.ca
SUMMARY:Nexwenen and Governance Community Engagement - Tl’esqox
DESCRIPTION:
URL:https://tsilhqotin.ca/event/nexwenen-and-governance-community-engagement-tlesqox/
LOCATION:Tl’esqox Band Office Boardroom
ATTACH;FMTTYPE=image/png:https://tsilhqotin.ca/wp-content/uploads/2025/03/Agenda.png
END:VEVENT
BEGIN:VEVENT
DTSTART;TZID=America/Vancouver:20250312T093000
DTEND;TZID=America/Vancouver:20250313T160000
DTSTAMP:20260420T131331
CREATED:20250211T200846Z
LAST-MODIFIED:20250318T204500Z
UID:10000091-1741771800-1741881600@tsilhqotin.ca
SUMMARY:Tŝilhqot’in-led Fisher Management Planning Workshop
DESCRIPTION:
URL:https://tsilhqotin.ca/event/tsilhqotin-led-fisher-management-planning-workshop/
LOCATION:Alexis Creek Community Hall\, 2620 Stum Lake Road\, Alexis Creek
ATTACH;FMTTYPE=image/png:https://tsilhqotin.ca/wp-content/uploads/2025/02/Fisher-2.png
END:VEVENT
BEGIN:VEVENT
DTSTART;TZID=America/Vancouver:20250311T100000
DTEND;TZID=America/Vancouver:20250311T160000
DTSTAMP:20260420T131331
CREATED:20250306T190547Z
LAST-MODIFIED:20250306T190547Z
UID:10000096-1741687200-1741708800@tsilhqotin.ca
SUMMARY:Nexwenen and Governance Community Engagement - Tŝideldel
DESCRIPTION:
URL:https://tsilhqotin.ca/event/nexwenen-and-governance-community-engagement-tsideldel/
LOCATION:Tŝideldel Culture Center
ATTACH;FMTTYPE=image/png:https://tsilhqotin.ca/wp-content/uploads/2025/03/Agenda.png
END:VEVENT
BEGIN:VEVENT
DTSTART;TZID=America/Vancouver:20250310T100000
DTEND;TZID=America/Vancouver:20250310T160000
DTSTAMP:20260420T131331
CREATED:20250306T190417Z
LAST-MODIFIED:20250306T190417Z
UID:10000095-1741600800-1741622400@tsilhqotin.ca
SUMMARY:Nexwenen and Governance Community Engagement - Yuneŝit’in
DESCRIPTION:
URL:https://tsilhqotin.ca/event/nexwenen-and-governance-community-engagement-yunesitin/
LOCATION:Yuneŝit’in Health Center
ATTACH;FMTTYPE=image/png:https://tsilhqotin.ca/wp-content/uploads/2025/03/Agenda.png
END:VEVENT
BEGIN:VEVENT
DTSTART;TZID=America/Vancouver:20250306T120000
DTEND;TZID=America/Vancouver:20250306T140000
DTSTAMP:20260420T131331
CREATED:20250218T183721Z
LAST-MODIFIED:20250318T204412Z
UID:10000093-1741262400-1741269600@tsilhqotin.ca
SUMMARY:Qatŝ’ay - Bringing our spirits back home - The Repatriation Film Premiere
DESCRIPTION:
URL:https://tsilhqotin.ca/event/quatsay-brining-our-spirits-back-home-the-repatriation-film-premiere/
LOCATION:TNG South Lakesdie Gymnasium
ATTACH;FMTTYPE=image/png:https://tsilhqotin.ca/wp-content/uploads/2025/02/Final-.png
END:VEVENT
BEGIN:VEVENT
DTSTART;TZID=America/Vancouver:20250227T170000
DTEND;TZID=America/Vancouver:20250227T200000
DTSTAMP:20260420T131331
CREATED:20250131T173629Z
LAST-MODIFIED:20250228T231341Z
UID:10000088-1740675600-1740686400@tsilhqotin.ca
SUMMARY:Tŝilhqot’in Deni Open House - Williams Lake
DESCRIPTION:
URL:https://tsilhqotin.ca/event/tsilhqotin-deni-open-house-williams-lake/
LOCATION:Williams Lake Gibraltar Room\, 525 Proctor Street\, Williams Lake\, BC\, V2G 4J1\, Canada
ATTACH;FMTTYPE=image/png:https://tsilhqotin.ca/wp-content/uploads/2025/01/Williams-Lake-3.png
END:VEVENT
BEGIN:VEVENT
DTSTART;TZID=America/Vancouver:20250226T120000
DTEND;TZID=America/Vancouver:20250226T160000
DTSTAMP:20260420T131331
CREATED:20250131T173436Z
LAST-MODIFIED:20250211T175025Z
UID:10000087-1740571200-1740585600@tsilhqotin.ca
SUMMARY:Status Card Renewals & Registration - Xeni Gwet'in
DESCRIPTION:
URL:https://tsilhqotin.ca/event/status-card-renewals-registration-xeni-gwetin-3/
LOCATION:ʔEniyud Health – Xeni Gwet’in
ATTACH;FMTTYPE=image/png:https://tsilhqotin.ca/wp-content/uploads/2025/01/2025-Status-Card-Renewals-Registration-Poster.png
END:VEVENT
BEGIN:VEVENT
DTSTART;TZID=America/Vancouver:20250213T120000
DTEND;TZID=America/Vancouver:20250213T160000
DTSTAMP:20260420T131331
CREATED:20250113T231151Z
LAST-MODIFIED:20250201T022249Z
UID:10000080-1739448000-1739462400@tsilhqotin.ca
SUMMARY:Status Card Renewals & Registration - Tŝideldel
DESCRIPTION:
URL:https://tsilhqotin.ca/event/status-card-renewals-registration-tsideldel-2/
LOCATION:Tŝideldel Band Office
ATTACH;FMTTYPE=image/png:https://tsilhqotin.ca/wp-content/uploads/2025/01/2025-Status-Card-Renewals-Registration-Poster-1.png
END:VEVENT
BEGIN:VEVENT
DTSTART;TZID=America/Vancouver:20250213T090000
DTEND;TZID=America/Vancouver:20250214T163000
DTSTAMP:20260420T131331
CREATED:20250211T175004Z
LAST-MODIFIED:20250218T183844Z
UID:10000090-1739437200-1739550600@tsilhqotin.ca
SUMMARY:Reclaiming the Warrior Spirit
DESCRIPTION:
URL:https://tsilhqotin.ca/event/reclaiming-the-warrior-spirit/
LOCATION:Williams Lake Longhouse\, 850 Mackenzie Ave.\, Williams Lake\, BC\, V2G 1M4
ATTACH;FMTTYPE=image/png:https://tsilhqotin.ca/wp-content/uploads/2025/02/Reclaiming-The-Warrior-Spirit-FINAL-.png
END:VEVENT
BEGIN:VEVENT
DTSTART;TZID=America/Vancouver:20250212T093000
DTEND;TZID=America/Vancouver:20250213T160000
DTSTAMP:20260420T131331
CREATED:20250201T022208Z
LAST-MODIFIED:20250218T183809Z
UID:10000089-1739352600-1739462400@tsilhqotin.ca
SUMMARY:Tŝilhqot’in-led Caribou Management Planning Workshop
DESCRIPTION:
URL:https://tsilhqotin.ca/event/tsilhqotin-led-caribou-management-planning-workshop/
LOCATION:Tŝideldel Culture Center
ATTACH;FMTTYPE=image/png:https://tsilhqotin.ca/wp-content/uploads/2025/01/Caribou-4.png
END:VEVENT
BEGIN:VEVENT
DTSTART;TZID=America/Vancouver:20250130T150000
DTEND;TZID=America/Vancouver:20250130T180000
DTSTAMP:20260420T131331
CREATED:20250114T161840Z
LAST-MODIFIED:20250114T161840Z
UID:10000084-1738249200-1738260000@tsilhqotin.ca
SUMMARY:Tŝilhqot’in ʔEten Nadiltil (TEN)- Dawson Road Maintenance Community Update - Tl'etinqox
DESCRIPTION:
URL:https://tsilhqotin.ca/event/tsilhqotin-%ca%94eten-nadiltil-ten-dawson-road-maintenance-community-update-tletinqox/
LOCATION:Tl’etinqox Elders Centre
ATTACH;FMTTYPE=image/png:https://tsilhqotin.ca/wp-content/uploads/2025/01/Tletinqox.png
END:VEVENT
BEGIN:VEVENT
DTSTART;TZID=America/Vancouver:20250130T100000
DTEND;TZID=America/Vancouver:20250130T130000
DTSTAMP:20260420T131331
CREATED:20250114T162019Z
LAST-MODIFIED:20250114T162019Z
UID:10000085-1738231200-1738242000@tsilhqotin.ca
SUMMARY:Tŝilhqot’in ʔEten Nadiltil (TEN)- Dawson Road Maintenance Community Update - Tŝideldel
DESCRIPTION:
URL:https://tsilhqotin.ca/event/tsilhqotin-%ca%94eten-nadiltil-ten-dawson-road-maintenance-community-update-tsideldel/
LOCATION:Tŝideldel Culture Center
ATTACH;FMTTYPE=image/png:https://tsilhqotin.ca/wp-content/uploads/2025/01/Tsideldel.png
END:VEVENT
BEGIN:VEVENT
DTSTART;TZID=America/Vancouver:20250129T100000
DTEND;TZID=America/Vancouver:20250129T130000
DTSTAMP:20260420T131331
CREATED:20250114T161645Z
LAST-MODIFIED:20250114T161645Z
UID:10000083-1738144800-1738155600@tsilhqotin.ca
SUMMARY:Tŝilhqot’in ʔEten Nadiltil (TEN)- Dawson Road Maintenance Community Update - Tl'esqox
DESCRIPTION:
URL:https://tsilhqotin.ca/event/tsilhqotin-%ca%94eten-nadiltil-ten-dawson-road-maintenance-community-update-tlesqox/
LOCATION:Tl’esqox Band Office Boardroom
ATTACH;FMTTYPE=image/png:https://tsilhqotin.ca/wp-content/uploads/2025/01/Tlesqox.png
END:VEVENT
BEGIN:VEVENT
DTSTART;TZID=America/Vancouver:20250129T090000
DTEND;TZID=America/Vancouver:20250129T160000
DTSTAMP:20260420T131331
CREATED:20250113T234027Z
LAST-MODIFIED:20250113T234027Z
UID:10000081-1738141200-1738166400@tsilhqotin.ca
SUMMARY:Elders Status Card Day
DESCRIPTION:
URL:https://tsilhqotin.ca/event/elders-status-card-day/
LOCATION:Tŝilhqot’in National Government Downtown Office\, 253 4 Ave. N.\, Williams Lake
ATTACH;FMTTYPE=image/png:https://tsilhqotin.ca/wp-content/uploads/2025/01/2025-Status-Card-Renewals-Registration-Poster-2.png
END:VEVENT
BEGIN:VEVENT
DTSTART;TZID=America/Vancouver:20250128T153000
DTEND;TZID=America/Vancouver:20250128T183000
DTSTAMP:20260420T131331
CREATED:20250115T232718Z
LAST-MODIFIED:20250131T173745Z
UID:10000086-1738078200-1738089000@tsilhqotin.ca
SUMMARY:Tŝilhqot’in ʔEten Nadiltil (TEN)- Dawson Road Maintenance Community Update - Yuneŝit’in
DESCRIPTION:
URL:https://tsilhqotin.ca/event/tsilhqotin-%ca%94eten-nadiltil-ten-dawson-road-maintenance-community-update-yunesitin/
LOCATION:Yuneŝit’in ʔEsgul Gym
CATEGORIES:Event
ATTACH;FMTTYPE=image/png:https://tsilhqotin.ca/wp-content/uploads/2025/01/Yunesitin.png
END:VEVENT
BEGIN:VEVENT
DTSTART;TZID=America/Vancouver:20250128T100000
DTEND;TZID=America/Vancouver:20250128T130000
DTSTAMP:20260420T131331
CREATED:20250114T161511Z
LAST-MODIFIED:20250114T161511Z
UID:10000082-1738058400-1738069200@tsilhqotin.ca
SUMMARY:Tŝilhqot’in ʔEten Nadiltil (TEN)- Dawson Road Maintenance Community Update - Xeni Gwet'in
DESCRIPTION:
URL:https://tsilhqotin.ca/event/tsilhqotin-%ca%94eten-nadiltil-ten-dawson-road-maintenance-community-update-xeni-gwetin/
LOCATION:Xeni Gwet’in Band Office
ATTACH;FMTTYPE=image/png:https://tsilhqotin.ca/wp-content/uploads/2025/01/Xeni.png
END:VEVENT
BEGIN:VEVENT
DTSTART;TZID=America/Vancouver:20250123T170000
DTEND;TZID=America/Vancouver:20250123T200000
DTSTAMP:20260420T131331
CREATED:20241107T201707Z
LAST-MODIFIED:20250127T201954Z
UID:10000064-1737651600-1737662400@tsilhqotin.ca
SUMMARY:Vancouver Tŝilhqot’in Deni Update
DESCRIPTION:
URL:https://tsilhqotin.ca/event/vancouver-tsilhqotin-deni-update/
LOCATION:The Coast Coal Harbour Hotel\, 1180 W. Hastings Street\, Vancouver\, BC
CATEGORIES:Event
ATTACH;FMTTYPE=image/png:https://tsilhqotin.ca/wp-content/uploads/2024/11/Vancouver-Final-2.png
END:VEVENT
BEGIN:VEVENT
DTSTART;TZID=America/Vancouver:20250121T093000
DTEND;TZID=America/Vancouver:20250122T160000
DTSTAMP:20260420T131331
CREATED:20250107T235854Z
LAST-MODIFIED:20250127T201820Z
UID:10000076-1737451800-1737561600@tsilhqotin.ca
SUMMARY:Access Management Planning
DESCRIPTION:
URL:https://tsilhqotin.ca/event/access-management-planning/
LOCATION:Alexis Creek Community Hall\, 2620 Stum Lake Road\, Alexis Creek
ATTACH;FMTTYPE=image/png:https://tsilhqotin.ca/wp-content/uploads/2025/01/Access-Management-Poster-1.png
END:VEVENT
BEGIN:VEVENT
DTSTART;TZID=America/Vancouver:20250120T100000
DTEND;TZID=America/Vancouver:20250124T150000
DTSTAMP:20260420T131331
CREATED:20241127T193925Z
LAST-MODIFIED:20241219T211110Z
UID:10000075-1737367200-1737730800@tsilhqotin.ca
SUMMARY:Tŝilhqot’in Business & Entrepreneurship Skills Training (BEST)
DESCRIPTION:
URL:https://tsilhqotin.ca/event/tsilhqotin-business-entrepreneurship-skills-training-best-2/
LOCATION:Virtual Training
ATTACH;FMTTYPE=image/png:https://tsilhqotin.ca/wp-content/uploads/2024/11/2025-Tsilhqotin-BEST-Poster.pdf-1.png
END:VEVENT
END:VCALENDAR