BEGIN:VCALENDAR
VERSION:2.0
PRODID:-//Tŝilhqot’in National Government - ECPv6.15.17.1//NONSGML v1.0//EN
CALSCALE:GREGORIAN
METHOD:PUBLISH
X-WR-CALNAME:Tŝilhqot’in National Government
X-ORIGINAL-URL:https://tsilhqotin.ca
X-WR-CALDESC:Events for Tŝilhqot’in National Government
REFRESH-INTERVAL;VALUE=DURATION:PT1H
X-Robots-Tag:noindex
X-PUBLISHED-TTL:PT1H
BEGIN:VTIMEZONE
TZID:America/Vancouver
BEGIN:DAYLIGHT
TZOFFSETFROM:-0800
TZOFFSETTO:-0700
TZNAME:PDT
DTSTART:20240310T100000
END:DAYLIGHT
BEGIN:STANDARD
TZOFFSETFROM:-0700
TZOFFSETTO:-0800
TZNAME:PST
DTSTART:20241103T090000
END:STANDARD
BEGIN:DAYLIGHT
TZOFFSETFROM:-0800
TZOFFSETTO:-0700
TZNAME:PDT
DTSTART:20250309T100000
END:DAYLIGHT
BEGIN:STANDARD
TZOFFSETFROM:-0700
TZOFFSETTO:-0800
TZNAME:PST
DTSTART:20251102T090000
END:STANDARD
BEGIN:DAYLIGHT
TZOFFSETFROM:-0800
TZOFFSETTO:-0700
TZNAME:PDT
DTSTART:20260308T100000
END:DAYLIGHT
BEGIN:STANDARD
TZOFFSETFROM:-0700
TZOFFSETTO:-0800
TZNAME:PST
DTSTART:20261101T090000
END:STANDARD
END:VTIMEZONE
BEGIN:VEVENT
DTSTART;TZID=America/Vancouver:20250620T080000
DTEND;TZID=America/Vancouver:20250620T170000
DTSTAMP:20260419T230846
CREATED:20250529T220704Z
LAST-MODIFIED:20250529T220704Z
UID:10000122-1750406400-1750438800@tsilhqotin.ca
SUMMARY:TNG Offices Closed for National Indigenous Peoples Day
DESCRIPTION:
URL:https://tsilhqotin.ca/event/tng-offices-closed-for-national-indigenous-peoples-day/
LOCATION:BC
END:VEVENT
BEGIN:VEVENT
DTSTART;TZID=America/Vancouver:20250605T160000
DTEND;TZID=America/Vancouver:20250605T190000
DTSTAMP:20260419T230846
CREATED:20250529T204603Z
LAST-MODIFIED:20250529T204603Z
UID:10000121-1749139200-1749150000@tsilhqotin.ca
SUMMARY:Landslide Recovery Engagement - Tl’etinqox
DESCRIPTION:
URL:https://tsilhqotin.ca/event/landslide-recovery-engagement-tletinqox/
LOCATION:Tl’etinqox ʔEsgul Gym
ATTACH;FMTTYPE=image/png:https://tsilhqotin.ca/wp-content/uploads/2025/05/Tletinqox-1.png
END:VEVENT
BEGIN:VEVENT
DTSTART;TZID=America/Vancouver:20250603T160000
DTEND;TZID=America/Vancouver:20250603T190000
DTSTAMP:20260419T230846
CREATED:20250529T204354Z
LAST-MODIFIED:20250611T172356Z
UID:10000120-1748966400-1748977200@tsilhqotin.ca
SUMMARY:Landslide Recovery Engagement - Yuneŝit’in
DESCRIPTION:
URL:https://tsilhqotin.ca/event/landslide-recovery-engagement-yunesitin/
LOCATION:Yuneŝit’in ʔEsgul Gym
ATTACH;FMTTYPE=image/png:https://tsilhqotin.ca/wp-content/uploads/2025/05/Yunesitin-3.png
END:VEVENT
BEGIN:VEVENT
DTSTART;TZID=America/Vancouver:20250602T170000
DTEND;TZID=America/Vancouver:20250602T200000
DTSTAMP:20260419T230846
CREATED:20250529T204146Z
LAST-MODIFIED:20250611T172336Z
UID:10000119-1748883600-1748894400@tsilhqotin.ca
SUMMARY:Landslide Recovery Engagement - Williams Lake
DESCRIPTION:
URL:https://tsilhqotin.ca/event/landslide-recovery-engagement-williams-lake/
LOCATION:Williams Lake Longhouse\, 850 Mackenzie Ave.\, Williams Lake\, BC\, V2G 1M4
ATTACH;FMTTYPE=image/png:https://tsilhqotin.ca/wp-content/uploads/2025/05/Williams-Lake-3.png
END:VEVENT
BEGIN:VEVENT
DTSTART;TZID=America/Vancouver:20250530T120000
DTEND;TZID=America/Vancouver:20250530T140000
DTSTAMP:20260419T230846
CREATED:20250521T175212Z
LAST-MODIFIED:20250521T175221Z
UID:10000118-1748606400-1748613600@tsilhqotin.ca
SUMMARY:Board of Directors Celebration BBQ
DESCRIPTION:Join us for a lunchtime BBQ to celebrate TNG’s new Board of Directors on May 30 at our Lakeside location.
URL:https://tsilhqotin.ca/event/board-of-directors-celebration-bbq/
LOCATION:TNG South Lakeside Office\, 1729 South Lakeside Dr\, Williams Lake\, CA-BC\, V2G 3A9\, Canada
CATEGORIES:Event
ATTACH;FMTTYPE=image/png:https://tsilhqotin.ca/wp-content/uploads/2025/05/BOD-Celebration-BBQ-May-30-Final.png
END:VEVENT
BEGIN:VEVENT
DTSTART;TZID=America/Vancouver:20250522T110000
DTEND;TZID=America/Vancouver:20250522T133000
DTSTAMP:20260419T230846
CREATED:20250408T223415Z
LAST-MODIFIED:20250408T225110Z
UID:10000111-1747911600-1747920600@tsilhqotin.ca
SUMMARY:Elders Unity Lunch - Tl’etinqox
DESCRIPTION:
URL:https://tsilhqotin.ca/event/elders-unity-lunch-tletinqox/
LOCATION:Tl’etinqox Health Centre\, Tl’etinqox Health Centre
ATTACH;FMTTYPE=image/png:https://tsilhqotin.ca/wp-content/uploads/2025/04/Tletinqox.png
END:VEVENT
BEGIN:VEVENT
DTSTART;TZID=America/Vancouver:20250522T090000
DTEND;TZID=America/Vancouver:20250522T163000
DTSTAMP:20260419T230846
CREATED:20250401T180007Z
LAST-MODIFIED:20250529T204720Z
UID:10000108-1747904400-1747931400@tsilhqotin.ca
SUMMARY:Reclaiming Our Indigenous Spirit
DESCRIPTION:
URL:https://tsilhqotin.ca/event/reclaiming-our-indigenous-spirit-2/
LOCATION:Williams Lake Curling Club\, 800 Mackenzie Avenue\, Williams Lake\, British Columbia\, V2G 4N5\, Canada
CATEGORIES:Event
ATTACH;FMTTYPE=image/png:https://tsilhqotin.ca/wp-content/uploads/2025/04/2025_Reclaiming_Our_Indigenous_Spirit_Poster.png
END:VEVENT
BEGIN:VEVENT
DTSTART;TZID=America/Vancouver:20250521T090000
DTEND;TZID=America/Vancouver:20250521T163000
DTSTAMP:20260419T230846
CREATED:20250401T175704Z
LAST-MODIFIED:20250529T204741Z
UID:10000107-1747818000-1747845000@tsilhqotin.ca
SUMMARY:Reclaiming Our Indigenous Spirit
DESCRIPTION:
URL:https://tsilhqotin.ca/event/reclaiming-our-indigenous-spirit/
LOCATION:Williams Lake Curling Club\, 800 Mackenzie Avenue\, Williams Lake\, British Columbia\, V2G 4N5\, Canada
CATEGORIES:Event
ATTACH;FMTTYPE=image/png:https://tsilhqotin.ca/wp-content/uploads/2025/04/2025_Reclaiming_Our_Indigenous_Spirit_Poster.png
END:VEVENT
BEGIN:VEVENT
DTSTART;TZID=America/Vancouver:20250515T090000
DTEND;TZID=America/Vancouver:20250515T160000
DTSTAMP:20260419T230846
CREATED:20250507T220858Z
LAST-MODIFIED:20250507T220858Z
UID:10000117-1747299600-1747324800@tsilhqotin.ca
SUMMARY:TNG Board of Directors Meeting
DESCRIPTION:
URL:https://tsilhqotin.ca/event/tng-board-of-directors-meeting/
LOCATION:Tŝideldel Band Office
CATEGORIES:Event
END:VEVENT
BEGIN:VEVENT
DTSTART;TZID=America/Vancouver:20250514T120000
DTEND;TZID=America/Vancouver:20250514T133000
DTSTAMP:20260419T230846
CREATED:20250507T220209Z
LAST-MODIFIED:20250507T220642Z
UID:10000116-1747224000-1747229400@tsilhqotin.ca
SUMMARY:Denisiqi – Ribbon Cutting at New Location
DESCRIPTION:
URL:https://tsilhqotin.ca/event/denisiqi-ribbon-cutting-at-new-location/
LOCATION:Finning Building\, 450 Mackenzie Ave\, Williams Lake\, British Columbia\, Canada
CATEGORIES:Event
END:VEVENT
BEGIN:VEVENT
DTSTART;TZID=America/Vancouver:20250513T090000
DTEND;TZID=America/Vancouver:20250513T130000
DTSTAMP:20260419T230846
CREATED:20250409T161026Z
LAST-MODIFIED:20250529T204656Z
UID:10000112-1747126800-1747141200@tsilhqotin.ca
SUMMARY:2025 Tŝilhqot'in Nation Spring Classic
DESCRIPTION:Come on out! Everyone is welcome to participate for FREE.\nPrizes\, lunch\, snacks and water will be provided. \nThis event is held in collaboration with Tŝilhqot’in National Government (TNG) \nIf you have any questions\, please contact Health & Emergency Services Administrative Assistant Courtney Mowery at 250-398-8575 or courtneymowery@tsilhqotin.ca \nRegistration\nCheck in/on-site registration will begin at 9:00am on race day (May 13). \nOr you can fill out the online registration form here. \nSchedule\n9:00 – 10:00am – Registration and get your race bibs \n9:30am – Opening remarks & opening Prayer \n9:50am – Warm up \n10:00am – Start of race (water stations & check points along the way) \n10:30am – 12:00pm – Lunch/snack/water table open for all participants \n12:00pm – Lunch \n1:00pm – Prizes & Closing Prayer
URL:https://tsilhqotin.ca/event/springclassic/
LOCATION:Yuneŝit’in Health Center
CATEGORIES:Event
ATTACH;FMTTYPE=image/png:https://tsilhqotin.ca/wp-content/uploads/2025/04/2025-Nation-Spring-Classic-Poster.png
ORGANIZER;CN="Ts%CC%82ilhqot'in Health Department":MAILTO:courtneymowery@tsilhqotin.ca
END:VEVENT
BEGIN:VEVENT
DTSTART;TZID=America/Vancouver:20250509T170000
DTEND;TZID=America/Vancouver:20250509T200000
DTSTAMP:20260419T230846
CREATED:20250507T215937Z
LAST-MODIFIED:20250507T215937Z
UID:10000115-1746810000-1746820800@tsilhqotin.ca
SUMMARY:Nation Celebration of Tŝilhqot’in Law + Jurisdiction for Tŝilhqot’in Families
DESCRIPTION:
URL:https://tsilhqotin.ca/event/nation-celebration-of-tsilhqotin-law-jurisdiction-for-tsilhqotin-families/
LOCATION:Gibraltar Room at the Cariboo Memorial Recreation Complex\, 525 Proctor St\, Williams Lake\, British Columbia\, V2G 4J1\, Canada
CATEGORIES:Event
END:VEVENT
BEGIN:VEVENT
DTSTART;TZID=America/Vancouver:20250509T120000
DTEND;TZID=America/Vancouver:20250509T150000
DTSTAMP:20260419T230846
CREATED:20250507T215818Z
LAST-MODIFIED:20250507T215818Z
UID:10000114-1746792000-1746802800@tsilhqotin.ca
SUMMARY:Health Information Session
DESCRIPTION:
URL:https://tsilhqotin.ca/event/health-information-session/
LOCATION:TNG South Lakeside Office\, 1729 South Lakeside Dr\, Williams Lake\, CA-BC\, V2G 3A9\, Canada
CATEGORIES:Event
END:VEVENT
BEGIN:VEVENT
DTSTART;TZID=America/Vancouver:20250508T180000
DTEND;TZID=America/Vancouver:20250508T200000
DTSTAMP:20260419T230846
CREATED:20250507T215619Z
LAST-MODIFIED:20250507T215619Z
UID:10000113-1746727200-1746734400@tsilhqotin.ca
SUMMARY:Celebration with Nidlin Team
DESCRIPTION:
URL:https://tsilhqotin.ca/event/celebration-with-nidlin-team/
LOCATION:Fox’s Den & Grill\, 104 Fairview Drive\, Williams Lake\, BC\, V2G 3T1\, Canada
CATEGORIES:Event
END:VEVENT
BEGIN:VEVENT
DTSTART;TZID=America/Vancouver:20250508T110000
DTEND;TZID=America/Vancouver:20250508T133000
DTSTAMP:20260419T230846
CREATED:20250408T223225Z
LAST-MODIFIED:20250529T204910Z
UID:10000110-1746702000-1746711000@tsilhqotin.ca
SUMMARY:Elders Unity Lunch - Yuneŝit’in
DESCRIPTION:
URL:https://tsilhqotin.ca/event/elders-unity-lunch-yunesitin/
LOCATION:Yuneŝit’in Health Center
CATEGORIES:Event
ATTACH;FMTTYPE=image/png:https://tsilhqotin.ca/wp-content/uploads/2025/04/Yunesitin-2.png
END:VEVENT
BEGIN:VEVENT
DTSTART;TZID=America/Vancouver:20250416T170000
DTEND;TZID=America/Vancouver:20250416T200000
DTSTAMP:20260419T230846
CREATED:20250306T192902Z
LAST-MODIFIED:20250429T231354Z
UID:10000105-1744822800-1744833600@tsilhqotin.ca
SUMMARY:Nexwenen and Governance Tŝilhqot’in Deni Engagement - Kamloops Coast Hotel
DESCRIPTION:
URL:https://tsilhqotin.ca/event/nexwenen-and-governance-tsilhqotin-deni-engagement-kamloops-coast-hotel/
LOCATION:Kamloops Coast Hotel\, 1250 Rogers Way\, Kamloops\, BC
ATTACH;FMTTYPE=image/png:https://tsilhqotin.ca/wp-content/uploads/2025/03/Kamloops-1.png
END:VEVENT
BEGIN:VEVENT
DTSTART;TZID=America/Vancouver:20250415T170000
DTEND;TZID=America/Vancouver:20250415T200000
DTSTAMP:20260419T230846
CREATED:20250306T192653Z
LAST-MODIFIED:20250416T195505Z
UID:10000104-1744736400-1744747200@tsilhqotin.ca
SUMMARY:Nexwenen and Governance Tŝilhqot’in Deni Engagement - Kelowna Coast Capri Hotel
DESCRIPTION:
URL:https://tsilhqotin.ca/event/nexwenen-and-governance-tsilhqotin-deni-engagement-kelowna-coast-capri-hotel/
LOCATION:Coast Capri Hotel\, 1171 Harvey Ave.\, Kelowna\, BC
ATTACH;FMTTYPE=image/png:https://tsilhqotin.ca/wp-content/uploads/2025/03/Kelowna-1.png
END:VEVENT
BEGIN:VEVENT
DTSTART;TZID=America/Vancouver:20250415T160000
DTEND;TZID=America/Vancouver:20250415T200000
DTSTAMP:20260419T230846
CREATED:20250319T173223Z
LAST-MODIFIED:20250319T173223Z
UID:10000106-1744732800-1744747200@tsilhqotin.ca
SUMMARY:Nenqayni Ch'ih Deni Ŵedli - Let’s Live Indigenous - Tŝilhqot’in History - Gibraltar Room
DESCRIPTION:
URL:https://tsilhqotin.ca/event/nenqayni-chih-deni-wedli-lets-live-indigenous-tsilhqotin-history-gibraltar-room/
LOCATION:Williams Lake Gibraltar Room\, 525 Proctor Street\, Williams Lake\, BC\, V2G 4J1\, Canada
ATTACH;FMTTYPE=image/png:https://tsilhqotin.ca/wp-content/uploads/2025/03/Nenqayni-Chih-Deni_Poster.png
END:VEVENT
BEGIN:VEVENT
DTSTART;TZID=America/Vancouver:20250414T170000
DTEND;TZID=America/Vancouver:20250414T200000
DTSTAMP:20260419T230846
CREATED:20250306T192409Z
LAST-MODIFIED:20250415T160124Z
UID:10000103-1744650000-1744660800@tsilhqotin.ca
SUMMARY:Nexwenen and Governance Tŝilhqot’in Deni Engagement - Coast Coal Harbour Vancouver Hotel
DESCRIPTION:
URL:https://tsilhqotin.ca/event/nexwenen-and-governance-tsilhqotin-deni-engagement-vancouver/
LOCATION:The Coast Coal Harbour Hotel\, 1180 W. Hastings Street\, Vancouver\, BC
ATTACH;FMTTYPE=image/png:https://tsilhqotin.ca/wp-content/uploads/2025/03/Vancouver-1.png
END:VEVENT
BEGIN:VEVENT
DTSTART;TZID=America/Vancouver:20250410T103000
DTEND;TZID=America/Vancouver:20250410T120000
DTSTAMP:20260419T230846
CREATED:20250404T212250Z
LAST-MODIFIED:20250404T212250Z
UID:10000109-1744281000-1744286400@tsilhqotin.ca
SUMMARY:Elders Tea - Tl'etinqox
DESCRIPTION:
URL:https://tsilhqotin.ca/event/elders-tea-tletinqox/
LOCATION:Tl’etinqox Elders Centre
ATTACH;FMTTYPE=image/png:https://tsilhqotin.ca/wp-content/uploads/2025/04/Tletinqox-Elders-tea-Poster-04_03_2025.png
END:VEVENT
BEGIN:VEVENT
DTSTART;TZID=America/Vancouver:20250409T093000
DTEND;TZID=America/Vancouver:20250410T160000
DTSTAMP:20260419T230846
CREATED:20250212T204743Z
LAST-MODIFIED:20250319T221937Z
UID:10000092-1744191000-1744300800@tsilhqotin.ca
SUMMARY:Tŝilhqot’in-led Moose Management Planning Workshop
DESCRIPTION:
URL:https://tsilhqotin.ca/event/tsilhqotin-led-moose-management-planning-workshop/
LOCATION:Tl’esqox Community Hall
ATTACH;FMTTYPE=image/png:https://tsilhqotin.ca/wp-content/uploads/2025/02/Moose-5.png
END:VEVENT
BEGIN:VEVENT
DTSTART;TZID=America/Vancouver:20250404T110000
DTEND;TZID=America/Vancouver:20250404T160000
DTSTAMP:20260419T230846
CREATED:20250225T222103Z
LAST-MODIFIED:20250225T222103Z
UID:10000094-1743764400-1743782400@tsilhqotin.ca
SUMMARY:Indigenous Craft Fair
DESCRIPTION:
URL:https://tsilhqotin.ca/event/indigenous-craft-fair/
LOCATION:Williams Lake Longhouse\, 850 Mackenzie Ave.\, Williams Lake\, BC\, V2G 1M4
ATTACH;FMTTYPE=image/png:https://tsilhqotin.ca/wp-content/uploads/2025/02/2025-Spring-Craft-Fair.png
END:VEVENT
BEGIN:VEVENT
DTSTART;TZID=America/Vancouver:20250402T100000
DTEND;TZID=America/Vancouver:20250402T160000
DTSTAMP:20260419T230846
CREATED:20250306T192215Z
LAST-MODIFIED:20250306T192215Z
UID:10000102-1743588000-1743609600@tsilhqotin.ca
SUMMARY:Nexwenen and Governance Community Engagement - Xeni Gwet’in
DESCRIPTION:
URL:https://tsilhqotin.ca/event/nexwenen-and-governance-community-engagement-xeni-gwetin/
LOCATION:Xeni Gwet’in Band Office
ATTACH;FMTTYPE=image/png:https://tsilhqotin.ca/wp-content/uploads/2025/03/Agenda.png
END:VEVENT
BEGIN:VEVENT
DTSTART;TZID=America/Vancouver:20250331T160000
DTEND;TZID=America/Vancouver:20250331T200000
DTSTAMP:20260419T230846
CREATED:20250108T193053Z
LAST-MODIFIED:20250108T193053Z
UID:10000077-1743436800-1743451200@tsilhqotin.ca
SUMMARY:Nenqayni Ch'ih Deni Ŵeldi
DESCRIPTION:
URL:https://tsilhqotin.ca/event/nenqayni-chih-deni-weldi/
LOCATION:BC
CATEGORIES:Event
ATTACH;FMTTYPE=image/png:https://tsilhqotin.ca/wp-content/uploads/2025/01/Evening-1.png
END:VEVENT
BEGIN:VEVENT
DTSTART;TZID=America/Vancouver:20250329T130000
DTEND;TZID=America/Vancouver:20250329T160000
DTSTAMP:20260419T230846
CREATED:20250306T192018Z
LAST-MODIFIED:20250321T162913Z
UID:10000101-1743253200-1743264000@tsilhqotin.ca
SUMMARY:Nexwenen and Governance Engagement - Virtual
DESCRIPTION:
URL:https://tsilhqotin.ca/event/nexwenen-and-governance-virtual-engagement/
LOCATION:Virtual Meeting
ATTACH;FMTTYPE=image/png:https://tsilhqotin.ca/wp-content/uploads/2025/03/2025-NEXWENENGOVERNANCE-POSTER.png
END:VEVENT
BEGIN:VEVENT
DTSTART;TZID=America/Vancouver:20250327T170000
DTEND;TZID=America/Vancouver:20250327T200000
DTSTAMP:20260419T230846
CREATED:20250306T191836Z
LAST-MODIFIED:20250306T191836Z
UID:10000100-1743094800-1743105600@tsilhqotin.ca
SUMMARY:Nexwenen and Governance Tŝilhqot'in Deni Engagement - TRU Williams Lake
DESCRIPTION:
URL:https://tsilhqotin.ca/event/nexwenen-and-governance-tsilhqotin-deni-engagement-tru-williams-lake/
LOCATION:TRU Room 1308
ATTACH;FMTTYPE=image/png:https://tsilhqotin.ca/wp-content/uploads/2025/03/Agenda.png
END:VEVENT
BEGIN:VEVENT
DTSTART;TZID=America/Vancouver:20250326T100000
DTEND;TZID=America/Vancouver:20250326T160000
DTSTAMP:20260419T230846
CREATED:20250306T191334Z
LAST-MODIFIED:20250306T191334Z
UID:10000099-1742983200-1743004800@tsilhqotin.ca
SUMMARY:Nexwenen and Governance Community Engagement - Quesnel Tillicum Society
DESCRIPTION:
URL:https://tsilhqotin.ca/event/nexwenen-and-governance-community-engagement-quesnel-tillicum-society/
LOCATION:Quesnel Tillicum Society\, 319 North Fraser Dr.\, Quesnel
ATTACH;FMTTYPE=image/png:https://tsilhqotin.ca/wp-content/uploads/2025/03/Agenda.png
END:VEVENT
BEGIN:VEVENT
DTSTART;TZID=America/Vancouver:20250325T170000
DTEND;TZID=America/Vancouver:20250325T200000
DTSTAMP:20260419T230846
CREATED:20250306T191050Z
LAST-MODIFIED:20250408T215419Z
UID:10000098-1742922000-1742932800@tsilhqotin.ca
SUMMARY:Nexwenen and Governance Youth Engagement - TRU Williams Lake
DESCRIPTION:
URL:https://tsilhqotin.ca/event/nexwenen-and-governance-community-engagement-tru-williams-lake/
LOCATION:TRU Room 1308
CATEGORIES:Event
ATTACH;FMTTYPE=image/png:https://tsilhqotin.ca/wp-content/uploads/2025/03/All-engagement.png
END:VEVENT
BEGIN:VEVENT
DTSTART;TZID=America/Vancouver:20250314T100000
DTEND;TZID=America/Vancouver:20250314T160000
DTSTAMP:20260419T230846
CREATED:20250306T190710Z
LAST-MODIFIED:20250306T190710Z
UID:10000097-1741946400-1741968000@tsilhqotin.ca
SUMMARY:Nexwenen and Governance Community Engagement - Tl’esqox
DESCRIPTION:
URL:https://tsilhqotin.ca/event/nexwenen-and-governance-community-engagement-tlesqox/
LOCATION:Tl’esqox Band Office Boardroom
ATTACH;FMTTYPE=image/png:https://tsilhqotin.ca/wp-content/uploads/2025/03/Agenda.png
END:VEVENT
BEGIN:VEVENT
DTSTART;TZID=America/Vancouver:20250312T093000
DTEND;TZID=America/Vancouver:20250313T160000
DTSTAMP:20260419T230846
CREATED:20250211T200846Z
LAST-MODIFIED:20250318T204500Z
UID:10000091-1741771800-1741881600@tsilhqotin.ca
SUMMARY:Tŝilhqot’in-led Fisher Management Planning Workshop
DESCRIPTION:
URL:https://tsilhqotin.ca/event/tsilhqotin-led-fisher-management-planning-workshop/
LOCATION:Alexis Creek Community Hall\, 2620 Stum Lake Road\, Alexis Creek
ATTACH;FMTTYPE=image/png:https://tsilhqotin.ca/wp-content/uploads/2025/02/Fisher-2.png
END:VEVENT
END:VCALENDAR