BEGIN:VCALENDAR
VERSION:2.0
PRODID:-//Tŝilhqot’in National Government - ECPv6.15.17.1//NONSGML v1.0//EN
CALSCALE:GREGORIAN
METHOD:PUBLISH
X-WR-CALNAME:Tŝilhqot’in National Government
X-ORIGINAL-URL:https://tsilhqotin.ca
X-WR-CALDESC:Events for Tŝilhqot’in National Government
REFRESH-INTERVAL;VALUE=DURATION:PT1H
X-Robots-Tag:noindex
X-PUBLISHED-TTL:PT1H
BEGIN:VTIMEZONE
TZID:America/Vancouver
BEGIN:DAYLIGHT
TZOFFSETFROM:-0800
TZOFFSETTO:-0700
TZNAME:PDT
DTSTART:20240310T100000
END:DAYLIGHT
BEGIN:STANDARD
TZOFFSETFROM:-0700
TZOFFSETTO:-0800
TZNAME:PST
DTSTART:20241103T090000
END:STANDARD
BEGIN:DAYLIGHT
TZOFFSETFROM:-0800
TZOFFSETTO:-0700
TZNAME:PDT
DTSTART:20250309T100000
END:DAYLIGHT
BEGIN:STANDARD
TZOFFSETFROM:-0700
TZOFFSETTO:-0800
TZNAME:PST
DTSTART:20251102T090000
END:STANDARD
BEGIN:DAYLIGHT
TZOFFSETFROM:-0800
TZOFFSETTO:-0700
TZNAME:PDT
DTSTART:20260308T100000
END:DAYLIGHT
BEGIN:STANDARD
TZOFFSETFROM:-0700
TZOFFSETTO:-0800
TZNAME:PST
DTSTART:20261101T090000
END:STANDARD
BEGIN:DAYLIGHT
TZOFFSETFROM:-0800
TZOFFSETTO:-0700
TZNAME:PDT
DTSTART:20270314T100000
END:DAYLIGHT
BEGIN:STANDARD
TZOFFSETFROM:-0700
TZOFFSETTO:-0800
TZNAME:PST
DTSTART:20271107T090000
END:STANDARD
END:VTIMEZONE
BEGIN:VEVENT
DTSTART;TZID=America/Vancouver:20260121T180000
DTEND;TZID=America/Vancouver:20260121T200000
DTSTAMP:20260419T192224
CREATED:20251210T201632Z
LAST-MODIFIED:20260123T185248Z
UID:10000146-1769018400-1769025600@tsilhqotin.ca
SUMMARY:TNG Open House
DESCRIPTION:
URL:https://tsilhqotin.ca/event/tng-open-house/
LOCATION:Tl’etinqox ʔEsgul Gym
CATEGORIES:Event
ATTACH;FMTTYPE=image/png:https://tsilhqotin.ca/wp-content/uploads/2025/12/TNG-Open-House-2026.png
END:VEVENT
BEGIN:VEVENT
DTSTART;TZID=America/Vancouver:20251222T080000
DTEND;TZID=America/Vancouver:20260102T170000
DTSTAMP:20260419T192224
CREATED:20250529T221643Z
LAST-MODIFIED:20251209T201132Z
UID:10000130-1766390400-1767373200@tsilhqotin.ca
SUMMARY:TNG Offices Closed for Winter Holidays
DESCRIPTION:We will see you in the New Year!
URL:https://tsilhqotin.ca/event/tng-offices-closed-for-christmas-holidays/
CATEGORIES:Holiday
ATTACH;FMTTYPE=image/png:https://tsilhqotin.ca/wp-content/uploads/2025/05/Our-Offices-Are-1.png
END:VEVENT
BEGIN:VEVENT
DTSTART;TZID=America/Vancouver:20251217T120000
DTEND;TZID=America/Vancouver:20251217T150000
DTSTAMP:20260419T192224
CREATED:20251201T194239Z
LAST-MODIFIED:20251218T175456Z
UID:10000145-1765972800-1765983600@tsilhqotin.ca
SUMMARY:2025 TNG Annual General Assembly
DESCRIPTION:Join us to review the Annual Report and updates from the Nits’ilʔin–Qi. Dinner and door prizes provided.
URL:https://tsilhqotin.ca/event/2025-tng-annual-general-assembly/
CATEGORIES:Event
ATTACH;FMTTYPE=image/png:https://tsilhqotin.ca/wp-content/uploads/2025/12/Virtual-6.png
END:VEVENT
BEGIN:VEVENT
DTSTART;TZID=America/Vancouver:20251204T120000
DTEND;TZID=America/Vancouver:20251204T170000
DTSTAMP:20260419T192224
CREATED:20251104T212748Z
LAST-MODIFIED:20251209T200937Z
UID:10000144-1764849600-1764867600@tsilhqotin.ca
SUMMARY:Winter Market & Indigenous Craft Fair
DESCRIPTION:Come out and browse all the amazing and unique hand-made pieces\, made with care by local Indigenous crafters. \n\nCash Only\nConcession on Site\nFree Registration for Vendors
URL:https://tsilhqotin.ca/event/winter-market-indigenous-craft-fair/
LOCATION:Williams Lake Longhouse\, 850 Mackenzie Ave.\, Williams Lake\, BC\, V2G 1M4
CATEGORIES:Event
ATTACH;FMTTYPE=image/png:https://tsilhqotin.ca/wp-content/uploads/2025/11/First-draft-1.png
END:VEVENT
BEGIN:VEVENT
DTSTART;TZID=America/Vancouver:20251111T080000
DTEND;TZID=America/Vancouver:20251111T170000
DTSTAMP:20260419T192224
CREATED:20250529T221508Z
LAST-MODIFIED:20251209T201039Z
UID:10000129-1762848000-1762880400@tsilhqotin.ca
SUMMARY:TNG Offices Closed
DESCRIPTION:
URL:https://tsilhqotin.ca/event/tng-offices-closed-3/
CATEGORIES:Holiday
ATTACH;FMTTYPE=image/png:https://tsilhqotin.ca/wp-content/uploads/2025/05/Our-Offices-Are-.png
END:VEVENT
BEGIN:VEVENT
DTSTART;TZID=America/Vancouver:20251106T170000
DTEND;TZID=America/Vancouver:20251106T200000
DTSTAMP:20260419T192224
CREATED:20251104T194336Z
LAST-MODIFIED:20251209T200954Z
UID:10000143-1762448400-1762459200@tsilhqotin.ca
SUMMARY:Vancouver Community Update
DESCRIPTION:Join us for an update from the Tŝilhqot’in Nits’ilʔin–Qi and a presentation from our Nidlin implementation team. \nDinner and door prizes provided.
URL:https://tsilhqotin.ca/event/vancouver-community-update/
LOCATION:The Coast Coal Harbour Hotel\, 1180 W. Hastings Street\, Vancouver\, BC
CATEGORIES:Event
ATTACH;FMTTYPE=image/png:https://tsilhqotin.ca/wp-content/uploads/2025/11/Virtual-1.png
END:VEVENT
BEGIN:VEVENT
DTSTART;TZID=America/Vancouver:20251026T120000
DTEND;TZID=America/Vancouver:20251026T140000
DTSTAMP:20260419T192224
CREATED:20251009T220500Z
LAST-MODIFIED:20251009T220741Z
UID:10000141-1761480000-1761487200@tsilhqotin.ca
SUMMARY:Lhatŝ’aŝʔin Memorial Day
DESCRIPTION:Join us for Lhatŝ’aŝʔin Memorial Day near Lillooet.
URL:https://tsilhqotin.ca/event/lhatsas%ca%94in-memorial-day/
CATEGORIES:Event
ATTACH;FMTTYPE=image/png:https://tsilhqotin.ca/wp-content/uploads/2025/10/OCT2025-Lhatsasʔin-Poster.png
END:VEVENT
BEGIN:VEVENT
DTSTART;TZID=America/Vancouver:20251024T080000
DTEND;TZID=America/Vancouver:20251024T170000
DTSTAMP:20260419T192224
CREATED:20250529T221407Z
LAST-MODIFIED:20251104T223632Z
UID:10000128-1761292800-1761325200@tsilhqotin.ca
SUMMARY:TNG Offices Closed for Lhatŝ’aŝʔin Memorial
DESCRIPTION:
URL:https://tsilhqotin.ca/event/tng-offices-closed-for-lhatsas%ca%94in-memorial/
CATEGORIES:Holiday
END:VEVENT
BEGIN:VEVENT
DTSTART;TZID=America/Vancouver:20251023T160000
DTEND;TZID=America/Vancouver:20251023T190000
DTSTAMP:20260419T192224
CREATED:20251017T213659Z
LAST-MODIFIED:20251104T224125Z
UID:10000142-1761235200-1761246000@tsilhqotin.ca
SUMMARY:All Tŝilhqot'in Elders Meeting
DESCRIPTION:
URL:https://tsilhqotin.ca/event/all-tsilhqotin-elders-meeting/
LOCATION:Yuneŝit’in ʔEsgul Gym
CATEGORIES:Event
ATTACH;FMTTYPE=image/png:https://tsilhqotin.ca/wp-content/uploads/2025/10/2025_OCT_All_Tsilhqotin_Elders_Meeting_Poster.png
END:VEVENT
BEGIN:VEVENT
DTSTART;TZID=America/Vancouver:20251013T080000
DTEND;TZID=America/Vancouver:20251013T170000
DTSTAMP:20260419T192224
CREATED:20250529T221242Z
LAST-MODIFIED:20251104T223640Z
UID:10000127-1760342400-1760374800@tsilhqotin.ca
SUMMARY:TNG Offices Closed for Thanksgiving
DESCRIPTION:
URL:https://tsilhqotin.ca/event/tng-offices-closed-for-thanksgiving/
CATEGORIES:Holiday
END:VEVENT
BEGIN:VEVENT
DTSTART;TZID=America/Vancouver:20251004T080000
DTEND;TZID=America/Vancouver:20251004T170000
DTSTAMP:20260419T192224
CREATED:20250724T184843Z
LAST-MODIFIED:20251104T224057Z
UID:10000138-1759564800-1759597200@tsilhqotin.ca
SUMMARY:Cancelled - Teẑtan Biny Celebration
DESCRIPTION:
URL:https://tsilhqotin.ca/event/te%e1%ba%91tan-biny-celebration/
LOCATION:Tez[tan Bing (Fish Lake)
CATEGORIES:Event
ATTACH;FMTTYPE=image/png:https://tsilhqotin.ca/wp-content/uploads/2025/07/Save-the-date-Oct-4.png
END:VEVENT
BEGIN:VEVENT
DTSTART;TZID=America/Vancouver:20250930T080000
DTEND;TZID=America/Vancouver:20250930T170000
DTSTAMP:20260419T192224
CREATED:20250529T221140Z
LAST-MODIFIED:20251104T223715Z
UID:10000126-1759219200-1759251600@tsilhqotin.ca
SUMMARY:TNG Offices Closed for National Day for Truth and Reconciliation
DESCRIPTION:
URL:https://tsilhqotin.ca/event/tng-offices-closed-for-national-day-for-truth-and-reconciliation/
CATEGORIES:Event
END:VEVENT
BEGIN:VEVENT
DTSTART;TZID=America/Vancouver:20250927T110000
DTEND;TZID=America/Vancouver:20250927T140000
DTSTAMP:20260419T192224
CREATED:20250922T185017Z
LAST-MODIFIED:20250922T185207Z
UID:10000140-1758970800-1758981600@tsilhqotin.ca
SUMMARY:Tŝilhqot’in Family Celebration
DESCRIPTION:Bring your families to the Tŝilhqot’in Family Celebration on Saturday September 27th at TNG Lakeside. \n\n\n\nThere will be lunch provided\, ice cream\, Indian Bingo\, fun family activities\, and celebration cake!\n\n\nCome help us celebrate our historic agreement for jurisdiction of our children and families and most importantly our future generations.\n\n\nDetails.\n\n\nWhen: Sat Sept 27th\, 11am – 2pm\n\n\nLocation: TNG Lakeside office\, 1729 S Lakeside Dr. Williams Lake\n\n\nWho: All Tŝilhqot’in Families and children!\n\n\nWhat: Lunch\, singing\, drumming\, ceremony\, Medicine\, door prizes\, Indian Bingo\, snow cones\, ice cream\, and more!\n\n\nSee you all there!
URL:https://tsilhqotin.ca/event/tsilhqotin-family-celebration/
LOCATION:TNG South Lakeside Office\, 1729 South Lakeside Dr\, Williams Lake\, CA-BC\, V2G 3A9\, Canada
CATEGORIES:Event
ATTACH;FMTTYPE=image/png:https://tsilhqotin.ca/wp-content/uploads/2025/09/2025-Tsilhqotin-Child-and-Family-Law-Poster-scaled.png
ORGANIZER;CN="Luke Moss":MAILTO:luke.moss@tsilhqotin.ca
END:VEVENT
BEGIN:VEVENT
DTSTART;TZID=America/Vancouver:20250910T000000
DTEND;TZID=America/Vancouver:20250910T000000
DTSTAMP:20260419T192224
CREATED:20250910T134953Z
LAST-MODIFIED:20250910T135042Z
UID:10000139-1757462400-1757462400@tsilhqotin.ca
SUMMARY:Xeni Gwet'in - Special General Assembly - Teẑtan Biny (Fish Lake) Discussion
DESCRIPTION:
URL:https://tsilhqotin.ca/event/xeni-gwetin-special-general-assembly-te%e1%ba%91tan-biny-fish-lake-discussion-2/
CATEGORIES:Event
END:VEVENT
BEGIN:VEVENT
DTSTART;TZID=America/Vancouver:20250901T080000
DTEND;TZID=America/Vancouver:20250901T170000
DTSTAMP:20260419T192224
CREATED:20250529T221009Z
LAST-MODIFIED:20251104T223732Z
UID:10000125-1756713600-1756746000@tsilhqotin.ca
SUMMARY:TNG Offices Closed for Labour Day
DESCRIPTION:
URL:https://tsilhqotin.ca/event/tng-offices-closed-for-labour-day/
CATEGORIES:Holiday
END:VEVENT
BEGIN:VEVENT
DTSTART;TZID=America/Vancouver:20250823T080000
DTEND;TZID=America/Vancouver:20250824T150000
DTSTAMP:20260419T192224
CREATED:20250623T185408Z
LAST-MODIFIED:20251104T223914Z
UID:10000136-1755936000-1756047600@tsilhqotin.ca
SUMMARY:Annual Tŝilhqot’in Nation Gathering
DESCRIPTION:
URL:https://tsilhqotin.ca/event/annual-tsilhqotin-nation-gathering-2/
LOCATION:Gwetsilh (Siwash)
CATEGORIES:Event
ATTACH;FMTTYPE=image/png:https://tsilhqotin.ca/wp-content/uploads/2025/06/2025-Annual-Tsilhqotin-Nation-Gathering-Poster.png
END:VEVENT
BEGIN:VEVENT
DTSTART;TZID=America/Vancouver:20250822T080000
DTEND;TZID=America/Vancouver:20250822T170000
DTSTAMP:20260419T192224
CREATED:20250623T185249Z
LAST-MODIFIED:20251104T224045Z
UID:10000135-1755849600-1755882000@tsilhqotin.ca
SUMMARY:Annual Tŝilhqot’in Nation Gathering
DESCRIPTION:
URL:https://tsilhqotin.ca/event/annual-tsilhqotin-nation-gathering/
LOCATION:Gwetsilh (Siwash)
CATEGORIES:Event
ATTACH;FMTTYPE=image/png:https://tsilhqotin.ca/wp-content/uploads/2025/06/2025-Annual-Tsilhqotin-Nation-Gathering-Poster.png
END:VEVENT
BEGIN:VEVENT
DTSTART;TZID=America/Vancouver:20250804T080000
DTEND;TZID=America/Vancouver:20250804T170000
DTSTAMP:20260419T192224
CREATED:20250529T220917Z
LAST-MODIFIED:20251104T223936Z
UID:10000124-1754294400-1754326800@tsilhqotin.ca
SUMMARY:TNG Offices Closed
DESCRIPTION:
URL:https://tsilhqotin.ca/event/tng-offices-closed-2/
CATEGORIES:Holiday
END:VEVENT
BEGIN:VEVENT
DTSTART;TZID=America/Vancouver:20250730T080000
DTEND;TZID=America/Vancouver:20250731T170000
DTSTAMP:20260419T192224
CREATED:20250617T230115Z
LAST-MODIFIED:20251104T223945Z
UID:10000133-1753862400-1753981200@tsilhqotin.ca
SUMMARY:Tŝilhqot’in Chejaghetadelh Unity Gathering - Hosted by the TNG Governance Sub-Table
DESCRIPTION:
URL:https://tsilhqotin.ca/event/tsilhqotin-chejaghetadelh-unity-gathering-hosted-by-the-tng-governance-sub-table/
LOCATION:Bendziny Resort\, 3904 Puntzi Lake Rd\, Chilanko Forks\, BC
CATEGORIES:Event
ATTACH;FMTTYPE=image/png:https://tsilhqotin.ca/wp-content/uploads/2025/06/2025-Unity-Gathering-Poster.png
END:VEVENT
BEGIN:VEVENT
DTSTART;TZID=America/Vancouver:20250729T083000
DTEND;TZID=America/Vancouver:20250729T160000
DTSTAMP:20260419T192224
CREATED:20250708T180536Z
LAST-MODIFIED:20251104T223747Z
UID:10000137-1753777800-1753804800@tsilhqotin.ca
SUMMARY:Tŝilhqot’in-led Mountain Goat Management Planning Workshop - Yuneŝit’in
DESCRIPTION:
URL:https://tsilhqotin.ca/event/tsilhqotin-led-mountain-goat-management-planning-workshop-yunesitin/
LOCATION:Yuneŝit’in ʔEsgul Gym
CATEGORIES:Event
ATTACH;FMTTYPE=image/png:https://tsilhqotin.ca/wp-content/uploads/2025/07/Mountain-Goat-5.png
END:VEVENT
BEGIN:VEVENT
DTSTART;TZID=America/Vancouver:20250718T100000
DTEND;TZID=America/Vancouver:20250718T120000
DTSTAMP:20260419T192224
CREATED:20250617T224857Z
LAST-MODIFIED:20251104T223537Z
UID:10000131-1752832800-1752840000@tsilhqotin.ca
SUMMARY:Chief ʔAhan Memorial 160th Anniversary
DESCRIPTION:
URL:https://tsilhqotin.ca/event/chief-%ca%94ahan-memorial-160th-anniversary/
CATEGORIES:Event
ATTACH;FMTTYPE=image/png:https://tsilhqotin.ca/wp-content/uploads/2025/06/2025-Chief-ʔAhan-Memorial-Poster.png
END:VEVENT
BEGIN:VEVENT
DTSTART;TZID=America/Vancouver:20250701T080000
DTEND;TZID=America/Vancouver:20250701T170000
DTSTAMP:20260419T192224
CREATED:20250529T220812Z
LAST-MODIFIED:20250529T220812Z
UID:10000123-1751356800-1751389200@tsilhqotin.ca
SUMMARY:TNG Offices Closed
DESCRIPTION:
URL:https://tsilhqotin.ca/event/tng-offices-closed/
END:VEVENT
BEGIN:VEVENT
DTSTART;TZID=America/Vancouver:20250626T103000
DTEND;TZID=America/Vancouver:20250626T220000
DTSTAMP:20260419T192224
CREATED:20250618T175224Z
LAST-MODIFIED:20251104T223202Z
UID:10000134-1750933800-1750975200@tsilhqotin.ca
SUMMARY:Tŝilhqot'in Title Lands Win Celebration 2025
DESCRIPTION:
URL:https://tsilhqotin.ca/event/tsilhqotin-title-lands-win-celebration-2025/
LOCATION:Tl’esqox Gathering Site
ATTACH;FMTTYPE=image/png:https://tsilhqotin.ca/wp-content/uploads/2025/06/2025-2-scaled.png
END:VEVENT
BEGIN:VEVENT
DTSTART;TZID=America/Vancouver:20250625T093000
DTEND;TZID=America/Vancouver:20250625T160000
DTSTAMP:20260419T192224
CREATED:20250617T225231Z
LAST-MODIFIED:20250722T160342Z
UID:10000132-1750843800-1750867200@tsilhqotin.ca
SUMMARY:Tŝilhqot’in-led Deer Management Planning Workshop
DESCRIPTION:
URL:https://tsilhqotin.ca/event/tsilhqotin-led-deer-management-planning-workshop/
ATTACH;FMTTYPE=image/png:https://tsilhqotin.ca/wp-content/uploads/2025/06/Deer-1.png
END:VEVENT
BEGIN:VEVENT
DTSTART;TZID=America/Vancouver:20250620T080000
DTEND;TZID=America/Vancouver:20250620T170000
DTSTAMP:20260419T192224
CREATED:20250529T220704Z
LAST-MODIFIED:20250529T220704Z
UID:10000122-1750406400-1750438800@tsilhqotin.ca
SUMMARY:TNG Offices Closed for National Indigenous Peoples Day
DESCRIPTION:
URL:https://tsilhqotin.ca/event/tng-offices-closed-for-national-indigenous-peoples-day/
END:VEVENT
BEGIN:VEVENT
DTSTART;TZID=America/Vancouver:20250605T160000
DTEND;TZID=America/Vancouver:20250605T190000
DTSTAMP:20260419T192224
CREATED:20250529T204603Z
LAST-MODIFIED:20250529T204603Z
UID:10000121-1749139200-1749150000@tsilhqotin.ca
SUMMARY:Landslide Recovery Engagement - Tl’etinqox
DESCRIPTION:
URL:https://tsilhqotin.ca/event/landslide-recovery-engagement-tletinqox/
LOCATION:Tl’etinqox ʔEsgul Gym
ATTACH;FMTTYPE=image/png:https://tsilhqotin.ca/wp-content/uploads/2025/05/Tletinqox-1.png
END:VEVENT
BEGIN:VEVENT
DTSTART;TZID=America/Vancouver:20250603T160000
DTEND;TZID=America/Vancouver:20250603T190000
DTSTAMP:20260419T192224
CREATED:20250529T204354Z
LAST-MODIFIED:20250611T172356Z
UID:10000120-1748966400-1748977200@tsilhqotin.ca
SUMMARY:Landslide Recovery Engagement - Yuneŝit’in
DESCRIPTION:
URL:https://tsilhqotin.ca/event/landslide-recovery-engagement-yunesitin/
LOCATION:Yuneŝit’in ʔEsgul Gym
ATTACH;FMTTYPE=image/png:https://tsilhqotin.ca/wp-content/uploads/2025/05/Yunesitin-3.png
END:VEVENT
BEGIN:VEVENT
DTSTART;TZID=America/Vancouver:20250602T170000
DTEND;TZID=America/Vancouver:20250602T200000
DTSTAMP:20260419T192224
CREATED:20250529T204146Z
LAST-MODIFIED:20250611T172336Z
UID:10000119-1748883600-1748894400@tsilhqotin.ca
SUMMARY:Landslide Recovery Engagement - Williams Lake
DESCRIPTION:
URL:https://tsilhqotin.ca/event/landslide-recovery-engagement-williams-lake/
LOCATION:Williams Lake Longhouse\, 850 Mackenzie Ave.\, Williams Lake\, BC\, V2G 1M4
ATTACH;FMTTYPE=image/png:https://tsilhqotin.ca/wp-content/uploads/2025/05/Williams-Lake-3.png
END:VEVENT
BEGIN:VEVENT
DTSTART;TZID=America/Vancouver:20250530T120000
DTEND;TZID=America/Vancouver:20250530T140000
DTSTAMP:20260419T192224
CREATED:20250521T175212Z
LAST-MODIFIED:20250521T175221Z
UID:10000118-1748606400-1748613600@tsilhqotin.ca
SUMMARY:Board of Directors Celebration BBQ
DESCRIPTION:Join us for a lunchtime BBQ to celebrate TNG’s new Board of Directors on May 30 at our Lakeside location.
URL:https://tsilhqotin.ca/event/board-of-directors-celebration-bbq/
LOCATION:TNG South Lakeside Office\, 1729 South Lakeside Dr\, Williams Lake\, CA-BC\, V2G 3A9\, Canada
CATEGORIES:Event
ATTACH;FMTTYPE=image/png:https://tsilhqotin.ca/wp-content/uploads/2025/05/BOD-Celebration-BBQ-May-30-Final.png
END:VEVENT
BEGIN:VEVENT
DTSTART;TZID=America/Vancouver:20250522T110000
DTEND;TZID=America/Vancouver:20250522T133000
DTSTAMP:20260419T192224
CREATED:20250408T223415Z
LAST-MODIFIED:20250408T225110Z
UID:10000111-1747911600-1747920600@tsilhqotin.ca
SUMMARY:Elders Unity Lunch - Tl’etinqox
DESCRIPTION:
URL:https://tsilhqotin.ca/event/elders-unity-lunch-tletinqox/
LOCATION:Tl’etinqox Health Centre\, Tl’etinqox Health Centre
ATTACH;FMTTYPE=image/png:https://tsilhqotin.ca/wp-content/uploads/2025/04/Tletinqox.png
END:VEVENT
END:VCALENDAR