BEGIN:VCALENDAR
VERSION:2.0
PRODID:-//Tŝilhqot’in National Government - ECPv6.15.17.1//NONSGML v1.0//EN
CALSCALE:GREGORIAN
METHOD:PUBLISH
X-WR-CALNAME:Tŝilhqot’in National Government
X-ORIGINAL-URL:https://tsilhqotin.ca
X-WR-CALDESC:Events for Tŝilhqot’in National Government
REFRESH-INTERVAL;VALUE=DURATION:PT1H
X-Robots-Tag:noindex
X-PUBLISHED-TTL:PT1H
BEGIN:VTIMEZONE
TZID:America/Vancouver
BEGIN:DAYLIGHT
TZOFFSETFROM:-0800
TZOFFSETTO:-0700
TZNAME:PDT
DTSTART:20230312T100000
END:DAYLIGHT
BEGIN:STANDARD
TZOFFSETFROM:-0700
TZOFFSETTO:-0800
TZNAME:PST
DTSTART:20231105T090000
END:STANDARD
BEGIN:DAYLIGHT
TZOFFSETFROM:-0800
TZOFFSETTO:-0700
TZNAME:PDT
DTSTART:20240310T100000
END:DAYLIGHT
BEGIN:STANDARD
TZOFFSETFROM:-0700
TZOFFSETTO:-0800
TZNAME:PST
DTSTART:20241103T090000
END:STANDARD
BEGIN:DAYLIGHT
TZOFFSETFROM:-0800
TZOFFSETTO:-0700
TZNAME:PDT
DTSTART:20250309T100000
END:DAYLIGHT
BEGIN:STANDARD
TZOFFSETFROM:-0700
TZOFFSETTO:-0800
TZNAME:PST
DTSTART:20251102T090000
END:STANDARD
END:VTIMEZONE
BEGIN:VEVENT
DTSTART;TZID=America/Vancouver:20241003T153000
DTEND;TZID=America/Vancouver:20241003T190000
DTSTAMP:20260420T145751
CREATED:20240925T220843Z
LAST-MODIFIED:20240925T220843Z
UID:10000037-1727969400-1727982000@tsilhqotin.ca
SUMMARY:Wildlife Management Discussions – Yuneŝit’in
DESCRIPTION:
URL:https://tsilhqotin.ca/event/wildlife-management-discussions-yunesitin/
LOCATION:Yuneŝit’in ʔEsgul Gym
ATTACH;FMTTYPE=image/png:https://tsilhqotin.ca/wp-content/uploads/2024/09/Yunesitin-1.png
END:VEVENT
BEGIN:VEVENT
DTSTART;TZID=America/Vancouver:20241002T080000
DTEND;TZID=America/Vancouver:20241002T160000
DTSTAMP:20260420T145751
CREATED:20240830T154934Z
LAST-MODIFIED:20241004T202846Z
UID:10000027-1727856000-1727884800@tsilhqotin.ca
SUMMARY:Tŝilhqot’in Housing Forum
DESCRIPTION:
URL:https://tsilhqotin.ca/event/tsilhqotin-housing-forum-2/
LOCATION:Gibraltar Room at the Cariboo Memorial Recreation Complex\, 525 Proctor St\, Williams Lake\, British Columbia\, V2G 4J1\, Canada
CATEGORIES:Event
ATTACH;FMTTYPE=image/png:https://tsilhqotin.ca/wp-content/uploads/2024/08/Tsilhqotin-Housing-Forum-Poster-1.png
END:VEVENT
BEGIN:VEVENT
DTSTART;TZID=America/Vancouver:20241001T140000
DTEND;TZID=America/Vancouver:20241001T170000
DTSTAMP:20260420T145751
CREATED:20240916T172904Z
LAST-MODIFIED:20240925T221102Z
UID:10000036-1727791200-1727802000@tsilhqotin.ca
SUMMARY:Wildlife Management Discussions - Tl’esqox
DESCRIPTION:
URL:https://tsilhqotin.ca/event/wildlife-management-discussions-with-tng-staff-tlesqox/
LOCATION:Tl’esqox Band Office Boardroom
ATTACH;FMTTYPE=image/png:https://tsilhqotin.ca/wp-content/uploads/2024/09/Tlesqox.png
END:VEVENT
BEGIN:VEVENT
DTSTART;TZID=America/Vancouver:20241001T090000
DTEND;TZID=America/Vancouver:20241001T120000
DTSTAMP:20260420T145751
CREATED:20240916T172537Z
LAST-MODIFIED:20240925T221142Z
UID:10000035-1727773200-1727784000@tsilhqotin.ca
SUMMARY:Wildlife Management Discussions - ʔEsdilagh
DESCRIPTION:
URL:https://tsilhqotin.ca/event/wildlife-management-discussions-with-tng-staff-%ca%94esdilagh/
LOCATION:Hummingbird Centre\, 9001-7 West Fraser Road\, BC\, V2G 6R4
ATTACH;FMTTYPE=image/png:https://tsilhqotin.ca/wp-content/uploads/2024/09/ʔEsdilagh-1.png
END:VEVENT
BEGIN:VEVENT
DTSTART;TZID=America/Vancouver:20240927T130000
DTEND;TZID=America/Vancouver:20240927T160000
DTSTAMP:20260420T145751
CREATED:20240910T154451Z
LAST-MODIFIED:20240918T220821Z
UID:10000028-1727442000-1727452800@tsilhqotin.ca
SUMMARY:Truth and Reconciliation Event
DESCRIPTION:Please gather with us at TNG’s South Lakeside office on the top field\, to observe and acknowledge Truth and Reconciliation Day. Hosted by Denesiqi Services Society and Tŝilhqot’in National Government. All are welcome!
URL:https://tsilhqotin.ca/event/truth-and-reconciliation-event/
LOCATION:TNG South Lakeside Office\, 1729 South Lakeside Dr\, Williams Lake\, CA-BC\, V2G 3A9\, Canada
ATTACH;FMTTYPE=image/png:https://tsilhqotin.ca/wp-content/uploads/2024/09/Copy-of-National-Day-for-Truth-and-Reconciliation.png
END:VEVENT
BEGIN:VEVENT
DTSTART;TZID=America/Vancouver:20240925T080000
DTEND;TZID=America/Vancouver:20240926T170000
DTSTAMP:20260420T145751
CREATED:20240829T163643Z
LAST-MODIFIED:20241004T202917Z
UID:10000026-1727251200-1727370000@tsilhqotin.ca
SUMMARY:Unity Gathering
DESCRIPTION:All Tŝilhqot’in are invited to attend this important gathering where discussions around governance and Nen will be discussed with leaders and Elders.
URL:https://tsilhqotin.ca/event/unity-gathering/
LOCATION:Deer Creek Ranch – Yuneŝit’in
CATEGORIES:Event
ATTACH;FMTTYPE=image/png:https://tsilhqotin.ca/wp-content/uploads/2024/08/Save-the-Date-Unity-Gathering-2024.png
END:VEVENT
BEGIN:VEVENT
DTSTART;TZID=America/Vancouver:20240924T120000
DTEND;TZID=America/Vancouver:20240924T180000
DTSTAMP:20260420T145751
CREATED:20240826T222145Z
LAST-MODIFIED:20240925T184537Z
UID:10000023-1727179200-1727200800@tsilhqotin.ca
SUMMARY:Williams Lake Career Fair
DESCRIPTION:Don’t miss the chance to connect with potential employers\, submit your resume\, and explore your career options.\nWith nearly 30 employer booths and exciting door prizes\, this event is not to be missed!​
URL:https://tsilhqotin.ca/event/williams-lake-career-fair/
LOCATION:Gibraltar Room at the Cariboo Memorial Recreation Complex\, 525 Proctor St\, Williams Lake\, British Columbia\, V2G 4J1\, Canada
CATEGORIES:Event
ATTACH;FMTTYPE=image/png:https://tsilhqotin.ca/wp-content/uploads/2024/08/Career-Fair-Poster.png
END:VEVENT
BEGIN:VEVENT
DTSTART;TZID=America/Vancouver:20240917T130000
DTEND;TZID=America/Vancouver:20240917T160000
DTSTAMP:20260420T145751
CREATED:20240730T223925Z
LAST-MODIFIED:20240730T223925Z
UID:10000020-1726578000-1726588800@tsilhqotin.ca
SUMMARY:Tŝideldel Status Card Registration and Renewal
DESCRIPTION:
URL:https://tsilhqotin.ca/event/tsideldel-status-card-registration-and-renewal/
LOCATION:Tŝideldel Band Office
CATEGORIES:Event
ATTACH;FMTTYPE=image/png:https://tsilhqotin.ca/wp-content/uploads/2024/07/TDD.png
END:VEVENT
BEGIN:VEVENT
DTSTART;TZID=America/Vancouver:20240916T160000
DTEND;TZID=America/Vancouver:20240916T203000
DTSTAMP:20260420T145751
CREATED:20240730T155223Z
LAST-MODIFIED:20240827T184637Z
UID:10000018-1726502400-1726518600@tsilhqotin.ca
SUMMARY:NENQAYNI CH’IH DENI ŴEDLI - Let’s Live Indigenous - Tŝilhqot’in History
DESCRIPTION:
URL:https://tsilhqotin.ca/event/nenqayni-chih-deni-wedli-lets-live-indigenous-tsilhqotin-history/
LOCATION:Williams Lake Gibraltar Room\, 525 Proctor Street\, Williams Lake\, BC\, V2G 4J1\, Canada
ATTACH;FMTTYPE=image/png:https://tsilhqotin.ca/wp-content/uploads/2024/07/Poster-002.png
END:VEVENT
BEGIN:VEVENT
DTSTART;TZID=America/Vancouver:20240916T120000
DTEND;TZID=America/Vancouver:20240916T133000
DTSTAMP:20260420T145751
CREATED:20240827T184834Z
LAST-MODIFIED:20240916T210030Z
UID:10000025-1726488000-1726493400@tsilhqotin.ca
SUMMARY:Online Launch - Tŝilhqot’in History
DESCRIPTION:Join us for an online launch to our virtual training\, FREE with 15% off provided towards an online session. Scan the QR code on the poster to register or use the link provided. \n  \n  \n  \n  \nhttps://tsilhqotin-ca.zoom.us/meeting/register/tZIldeqppjwqE93UmzOz9rN_01ZiZsh-4COa
URL:https://tsilhqotin.ca/event/online-launch-tsilhqotin-history/
LOCATION:BC
CATEGORIES:Event
ATTACH;FMTTYPE=image/png:https://tsilhqotin.ca/wp-content/uploads/2024/08/Online-Launch-1.png
END:VEVENT
BEGIN:VEVENT
DTSTART;TZID=America/Vancouver:20240911T080000
DTEND;TZID=America/Vancouver:20240913T170000
DTSTAMP:20260420T145751
CREATED:20240826T220442Z
LAST-MODIFIED:20240826T221351Z
UID:10000022-1726041600-1726246800@tsilhqotin.ca
SUMMARY:Tŝiyi Heritage Gathering
DESCRIPTION:This two-day gathering will involve elders and youth coming together\, sharing and recording stories and knowledge\, and enjoying a variety of activities. Themes for discussion will include museums and repatriation as well as protocols and oral histories at cultural places and sites.
URL:https://tsilhqotin.ca/event/tsiyi-heritage-gathering/
LOCATION:Tŝiyi (Bull Canyon)\, Chilcotin-Bella Coola Highway 20\, Alexis Creek\, Tŝideldel (Alexis Creek)\, British Columbia\, V0L 1A0\, Canada
END:VEVENT
BEGIN:VEVENT
DTSTART;TZID=America/Vancouver:20240823T083000
DTEND;TZID=America/Vancouver:20240825T150000
DTSTAMP:20260420T145751
CREATED:20240609T152615Z
LAST-MODIFIED:20240826T200522Z
UID:10000016-1724401800-1724598000@tsilhqotin.ca
SUMMARY:Tŝilhqot’in Nation Gathering
DESCRIPTION:
URL:https://tsilhqotin.ca/event/tsilhqotin-national-government-nation-gathering/
LOCATION:Siwash
CATEGORIES:Event
ATTACH;FMTTYPE=image/png:https://tsilhqotin.ca/wp-content/uploads/2024/06/Gathering-Brand-Colors-1.png
END:VEVENT
BEGIN:VEVENT
DTSTART;TZID=America/Vancouver:20240820T130000
DTEND;TZID=America/Vancouver:20240820T160000
DTSTAMP:20260420T145751
CREATED:20240730T223203Z
LAST-MODIFIED:20240730T223203Z
UID:10000019-1724158800-1724169600@tsilhqotin.ca
SUMMARY:Xeni Gwet’in Status Card Registration and Renewal
DESCRIPTION:
URL:https://tsilhqotin.ca/event/xeni-gwetin-status-card-registration-and-renewal/
LOCATION:ʔEniyud Health Services
ATTACH;FMTTYPE=image/png:https://tsilhqotin.ca/wp-content/uploads/2024/07/Xeni.png
END:VEVENT
BEGIN:VEVENT
DTSTART;TZID=America/Vancouver:20240808T100000
DTEND;TZID=America/Vancouver:20240808T120000
DTSTAMP:20260420T145751
CREATED:20240806T221326Z
LAST-MODIFIED:20240806T221326Z
UID:10000021-1723111200-1723118400@tsilhqotin.ca
SUMMARY:*SPECIAL EVENT* - Tŝilhqot’in Water Ceremony
DESCRIPTION:
URL:https://tsilhqotin.ca/event/special-event-tsilhqotin-water-ceremony/
LOCATION:Tl’etinqox
CATEGORIES:Event
ATTACH;FMTTYPE=image/png:https://tsilhqotin.ca/wp-content/uploads/2024/08/Water-Ceremony-Poster-3.png
END:VEVENT
BEGIN:VEVENT
DTSTART;TZID=America/Vancouver:20240718T100000
DTEND;TZID=America/Vancouver:20240718T130000
DTSTAMP:20260420T145751
CREATED:20240614T152157Z
LAST-MODIFIED:20240622T180918Z
UID:10000015-1721296800-1721307600@tsilhqotin.ca
SUMMARY:War Nits’ilʔin ʔAhan Memorial
DESCRIPTION:
URL:https://tsilhqotin.ca/event/war-nitsil%ca%94in-%ca%94ahan-memorial/
LOCATION:TNG South Lakeside Office\, 1729 South Lakeside Dr\, Williams Lake\, CA-BC\, V2G 3A9\, Canada
CATEGORIES:Event
ATTACH;FMTTYPE=image/png:https://tsilhqotin.ca/wp-content/uploads/2024/06/Chief-Ahan-purple.png
END:VEVENT
BEGIN:VEVENT
DTSTART;TZID=America/Vancouver:20240716T170000
DTEND;TZID=America/Vancouver:20240716T200000
DTSTAMP:20260420T145751
CREATED:20240709T181440Z
LAST-MODIFIED:20240722T164115Z
UID:10000017-1721149200-1721160000@tsilhqotin.ca
SUMMARY:Xeni Gwet’in - Special General Assembly - Teẑtan Biny (Fish Lake) Discussion
DESCRIPTION:
URL:https://tsilhqotin.ca/event/xeni-gwetin-special-general-assembly-te%e1%ba%91tan-biny-fish-lake-discussion/
LOCATION:Xeni Gwet’in Band Office
ATTACH;FMTTYPE=image/png:https://tsilhqotin.ca/wp-content/uploads/2024/07/Special-Assembly-Meeting-July-16-2024.png
END:VEVENT
BEGIN:VEVENT
DTSTART;VALUE=DATE:20240706
DTEND;VALUE=DATE:20240707
DTSTAMP:20260420T145751
CREATED:20240610T231008Z
LAST-MODIFIED:20240702T203219Z
UID:10000013-1720224000-1720310399@tsilhqotin.ca
SUMMARY:Graveyard Valley Peace Ceremony
DESCRIPTION:
URL:https://tsilhqotin.ca/event/graveyard-valley-peace-ceremony/
LOCATION:BC
CATEGORIES:Event
ATTACH;FMTTYPE=image/png:https://tsilhqotin.ca/wp-content/uploads/2024/06/Minimal-Graveyard-Valley-poster-3.png
END:VEVENT
BEGIN:VEVENT
DTSTART;VALUE=DATE:20240702
DTEND;VALUE=DATE:20240705
DTSTAMP:20260420T145751
CREATED:20240610T230732Z
LAST-MODIFIED:20240730T223516Z
UID:10000012-1719878400-1720137599@tsilhqotin.ca
SUMMARY:Repatriation Open House
DESCRIPTION:
URL:https://tsilhqotin.ca/event/repatriation-open-house/
LOCATION:Dasiqox Office\, 925 2nd Ave. N.\, Williams Lake\, British Columbia\, V2G 4P7\, Canada
CATEGORIES:Event
ATTACH;FMTTYPE=image/png:https://tsilhqotin.ca/wp-content/uploads/2024/06/Repatriation-Open-House-Poster-8.5-x-11-in-3.png
END:VEVENT
BEGIN:VEVENT
DTSTART;TZID=America/Vancouver:20240621T080000
DTEND;TZID=America/Vancouver:20240621T080000
DTSTAMP:20260420T145751
CREATED:20240610T224634Z
LAST-MODIFIED:20240610T231402Z
UID:10000009-1718956800-1718956800@tsilhqotin.ca
SUMMARY:National Indigenous Peoples Day
DESCRIPTION:
URL:https://tsilhqotin.ca/event/national-indigenous-peoples-day/
LOCATION:Boitanio Park\, Williams Lake
CATEGORIES:Event
END:VEVENT
BEGIN:VEVENT
DTSTART;TZID=America/Vancouver:20240617T170000
DTEND;TZID=America/Vancouver:20240617T193000
DTSTAMP:20260420T145751
CREATED:20240610T221802Z
LAST-MODIFIED:20240610T221802Z
UID:10000008-1718643600-1718652600@tsilhqotin.ca
SUMMARY:Xeni Gwet'in - Reclaiming My Language Meeting
DESCRIPTION:
URL:https://tsilhqotin.ca/event/xeni-gwetin-reclaiming-my-language-meeting/
LOCATION:Xeni Gwet’in Band Office
CATEGORIES:Event
ATTACH;FMTTYPE=image/png:https://tsilhqotin.ca/wp-content/uploads/2024/06/2023-RML-Poster.png
END:VEVENT
BEGIN:VEVENT
DTSTART;TZID=America/Vancouver:20240613T090000
DTEND;TZID=America/Vancouver:20240613T130000
DTSTAMP:20260420T145751
CREATED:20240610T230249Z
LAST-MODIFIED:20240610T230249Z
UID:10000011-1718269200-1718283600@tsilhqotin.ca
SUMMARY:All Nations Spring Classic 2024
DESCRIPTION:
URL:https://tsilhqotin.ca/event/all-nations-spring-classic-2024/
LOCATION:Yuneŝit’in
ATTACH;FMTTYPE=image/png:https://tsilhqotin.ca/wp-content/uploads/2024/06/2024-Walk-Run-Poster-1.png
END:VEVENT
END:VCALENDAR