BEGIN:VCALENDAR
VERSION:2.0
PRODID:-//Tŝilhqot’in National Government - ECPv6.15.17.1//NONSGML v1.0//EN
CALSCALE:GREGORIAN
METHOD:PUBLISH
X-WR-CALNAME:Tŝilhqot’in National Government
X-ORIGINAL-URL:https://tsilhqotin.ca
X-WR-CALDESC:Events for Tŝilhqot’in National Government
REFRESH-INTERVAL;VALUE=DURATION:PT1H
X-Robots-Tag:noindex
X-PUBLISHED-TTL:PT1H
BEGIN:VTIMEZONE
TZID:America/Vancouver
BEGIN:DAYLIGHT
TZOFFSETFROM:-0800
TZOFFSETTO:-0700
TZNAME:PDT
DTSTART:20230312T100000
END:DAYLIGHT
BEGIN:STANDARD
TZOFFSETFROM:-0700
TZOFFSETTO:-0800
TZNAME:PST
DTSTART:20231105T090000
END:STANDARD
BEGIN:DAYLIGHT
TZOFFSETFROM:-0800
TZOFFSETTO:-0700
TZNAME:PDT
DTSTART:20240310T100000
END:DAYLIGHT
BEGIN:STANDARD
TZOFFSETFROM:-0700
TZOFFSETTO:-0800
TZNAME:PST
DTSTART:20241103T090000
END:STANDARD
BEGIN:DAYLIGHT
TZOFFSETFROM:-0800
TZOFFSETTO:-0700
TZNAME:PDT
DTSTART:20250309T100000
END:DAYLIGHT
BEGIN:STANDARD
TZOFFSETFROM:-0700
TZOFFSETTO:-0800
TZNAME:PST
DTSTART:20251102T090000
END:STANDARD
END:VTIMEZONE
BEGIN:VEVENT
DTSTART;TZID=America/Vancouver:20241002T080000
DTEND;TZID=America/Vancouver:20241002T160000
DTSTAMP:20260421T183815
CREATED:20240830T154934Z
LAST-MODIFIED:20241004T202846Z
UID:10000027-1727856000-1727884800@tsilhqotin.ca
SUMMARY:Tŝilhqot’in Housing Forum
DESCRIPTION:
URL:https://tsilhqotin.ca/event/tsilhqotin-housing-forum-2/
LOCATION:Gibraltar Room at the Cariboo Memorial Recreation Complex\, 525 Proctor St\, Williams Lake\, British Columbia\, V2G 4J1\, Canada
CATEGORIES:Event
ATTACH;FMTTYPE=image/png:https://tsilhqotin.ca/wp-content/uploads/2024/08/Tsilhqotin-Housing-Forum-Poster-1.png
END:VEVENT
BEGIN:VEVENT
DTSTART;TZID=America/Vancouver:20241016T170000
DTEND;TZID=America/Vancouver:20241016T200000
DTSTAMP:20260421T183815
CREATED:20240912T211706Z
LAST-MODIFIED:20241017T155020Z
UID:10000033-1729098000-1729108800@tsilhqotin.ca
SUMMARY:Tŝilhqot’in Nation World Café
DESCRIPTION:Gather with us for a meal and an evening of fun with TNG. See what’s new or get updated on what TNG is currently working on\, and maybe win at BINGO!
URL:https://tsilhqotin.ca/event/tsilhqotin-nation-world-cafe/
LOCATION:Tillicum Society Friendship Centre\, 319 North Fraser Dr.\, Quesnel
CATEGORIES:Event
ATTACH;FMTTYPE=image/png:https://tsilhqotin.ca/wp-content/uploads/2024/09/option-2-1.png
END:VEVENT
BEGIN:VEVENT
DTSTART;TZID=America/Vancouver:20241026T120000
DTEND;TZID=America/Vancouver:20241026T140000
DTSTAMP:20260421T183815
CREATED:20241009T161726Z
LAST-MODIFIED:20241028T185417Z
UID:10000040-1729944000-1729951200@tsilhqotin.ca
SUMMARY:2024 Lhatŝ’aŝʔin Memorial Day
DESCRIPTION:Let us gather with with us to honour\, commemorate the 160th anniversary and remember.
URL:https://tsilhqotin.ca/event/2024-lhatsas%ca%94in-memorial-day/
LOCATION:Fish Trap-Dean Lake Recreational Site
CATEGORIES:Event
ATTACH;FMTTYPE=image/png:https://tsilhqotin.ca/wp-content/uploads/2024/10/2024-Lhatsasʔin-Memorial-Poster.png
END:VEVENT
END:VCALENDAR